BEGIN:VCALENDAR
VERSION:2.0
PRODID:-//ChamberMaster//Event Calendar 2.0//EN
METHOD:PUBLISH
X-PUBLISHED-TTL:P3D
REFRESH-INTERVAL:P3D
CALSCALE:GREGORIAN
BEGIN:VEVENT
DTSTART:20180428T190000Z
DTEND:20180429T050000Z
X-MICROSOFT-CDO-ALLDAYEVENT:FALSE
SUMMARY:Holy Name of Mary Family Festival 2018
DESCRIPTION:April 27\, 28\,& 29th 2018 Carnival Rides & Games\, Concert Series\, Local Entertainment\, Food\, & Car Raffle.HNMFamily Festival is an annual tradition for fun!\n\nThere will be dozens of carnival rides and games for the entire family. There will be delicious food such as Mexican\, Filipino\, Mediterranean\, pizza\, baked goods\, ice cream\, hot dogs\, hamburgers\, garlic fries\, and many more dishes. Besides fresh coffee and refreshing soft drinks\, there will also be a beer garden and wine tasting area. \n \n\n\nNoon     HNM School Talent Show\n\n1:30pm Berrytones\n\n2:00pm Foothill Tavern Band\n\n4:00pm Syndicate 4 Band\n\n6:00pm DSB (Jourrney Tribute)\n\n8:00pm Led Zepagain
X-ALT-DESC;FMTTYPE=text/html:<span style="font-size:14px\;"><span style="color: rgb(29\, 33\, 41)\; font-family: Helvetica\, Arial\, sans-serif\;">April 27\, 28\,&amp\; 29th 2018 Carnival Rides &amp\; Games\, Concert Series\, Local Entertainment\, Food\, &amp\; Car Raffle.HNMFamily Festival is an annual tradition for fun!</span></span><br />\nThere will be dozens of carnival rides and games for the entire family. There will be delicious food such as Mexican\, Filipino\, Mediterranean\, pizza\, baked goods\, ice cream\, hot dogs\, hamburgers\, garlic fries\, and many more dishes. Besides fresh coffee and refreshing soft drinks\, there will also be a beer garden and wine tasting area.&nbsp\;\n<div>&nbsp\;</div>\n\n<div>\n<p class="font_8" style="margin: 0px\; padding: 0px\; border: 0px\; outline: 0px\; vertical-align: baseline\; background: 0px 0px\; font-variant-numeric: normal\; font-variant-east-asian: normal\; font-stretch: normal\; font-size: 18px\; line-height: 1.1\; font-family: proxima-n-w01-reg\, sans-serif\; color: rgb(65\, 65\, 65)\; pointer-events: auto\;"><span style="margin: 0px\; padding: 0px\; border: 0px\; outline: 0px\; vertical-align: baseline\; background: 0px 0px\;"><span class="color_14" style="margin: 0px\; padding: 0px\; border: 0px\; outline: 0px\; vertical-align: baseline\; background: 0px 0px\; color: rgb(0\, 46\, 254)\; font-family: arial\, &quot\;&#65357\;&#65363\; &#65360\;&#12468\;&#12471\;&#12483\;&#12463\;&quot\;\, &quot\;ms pgothic&quot\;\, &#46027\;&#50880\;\, dotum\, helvetica\, sans-serif\; font-weight: 600\;">Noon&nbsp\; &nbsp\; &nbsp\;HNM School Talent Show</span></span></p>\n\n<p class="font_8" style="margin: 0px\; padding: 0px\; border: 0px\; outline: 0px\; vertical-align: baseline\; background: 0px 0px\; font-variant-numeric: normal\; font-variant-east-asian: normal\; font-stretch: normal\; font-size: 18px\; line-height: 1.1\; font-family: proxima-n-w01-reg\, sans-serif\; color: rgb(65\, 65\, 65)\; pointer-events: auto\;"><span style="margin: 0px\; padding: 0px\; border: 0px\; outline: 0px\; vertical-align: baseline\; background: 0px 0px\;"><span class="color_14" style="margin: 0px\; padding: 0px\; border: 0px\; outline: 0px\; vertical-align: baseline\; background: 0px 0px\; color: rgb(0\, 46\, 254)\; font-family: arial\, &quot\;&#65357\;&#65363\; &#65360\;&#12468\;&#12471\;&#12483\;&#12463\;&quot\;\, &quot\;ms pgothic&quot\;\, &#46027\;&#50880\;\, dotum\, helvetica\, sans-serif\; font-weight: 600\;">1:30pm Berrytones</span></span></p>\n\n<p class="font_8" style="margin: 0px\; padding: 0px\; border: 0px\; outline: 0px\; vertical-align: baseline\; background: 0px 0px\; font-variant-numeric: normal\; font-variant-east-asian: normal\; font-stretch: normal\; font-size: 18px\; line-height: 1.1\; font-family: proxima-n-w01-reg\, sans-serif\; color: rgb(65\, 65\, 65)\; pointer-events: auto\;"><span style="margin: 0px\; padding: 0px\; border: 0px\; outline: 0px\; vertical-align: baseline\; background: 0px 0px\;"><span class="color_14" style="margin: 0px\; padding: 0px\; border: 0px\; outline: 0px\; vertical-align: baseline\; background: 0px 0px\; color: rgb(0\, 46\, 254)\; font-family: arial\, &quot\;&#65357\;&#65363\; &#65360\;&#12468\;&#12471\;&#12483\;&#12463\;&quot\;\, &quot\;ms pgothic&quot\;\, &#46027\;&#50880\;\, dotum\, helvetica\, sans-serif\; font-weight: 600\;">2:00pm Foothill Tavern Band</span></span></p>\n\n<p class="font_8" style="margin: 0px\; padding: 0px\; border: 0px\; outline: 0px\; vertical-align: baseline\; background: 0px 0px\; font-variant-numeric: normal\; font-variant-east-asian: normal\; font-stretch: normal\; font-size: 18px\; line-height: 1.1\; font-family: proxima-n-w01-reg\, sans-serif\; color: rgb(65\, 65\, 65)\; pointer-events: auto\;"><span style="margin: 0px\; padding: 0px\; border: 0px\; outline: 0px\; vertical-align: baseline\; background: 0px 0px\;"><span class="color_14" style="margin: 0px\; padding: 0px\; border: 0px\; outline: 0px\; vertical-align: baseline\; background: 0px 0px\; color: rgb(0\, 46\, 254)\; font-family: arial\, &quot\;&#65357\;&#65363\; &#65360\;&#12468\;&#12471\;&#12483\;&#12463\;&quot\;\, &quot\;ms pgothic&quot\;\, &#46027\;&#50880\;\, dotum\, helvetica\, sans-serif\; font-weight: 600\;">4:00pm Syndicate 4 Band</span></span></p>\n\n<p class="font_8" style="margin: 0px\; padding: 0px\; border: 0px\; outline: 0px\; vertical-align: baseline\; background: 0px 0px\; font-variant-numeric: normal\; font-variant-east-asian: normal\; font-stretch: normal\; font-size: 18px\; line-height: 1.1\; font-family: proxima-n-w01-reg\, sans-serif\; color: rgb(65\, 65\, 65)\; pointer-events: auto\;"><span style="margin: 0px\; padding: 0px\; border: 0px\; outline: 0px\; vertical-align: baseline\; background: 0px 0px\;"><span class="color_14" style="margin: 0px\; padding: 0px\; border: 0px\; outline: 0px\; vertical-align: baseline\; background: 0px 0px\; color: rgb(0\, 46\, 254)\; font-family: arial\, &quot\;&#65357\;&#65363\; &#65360\;&#12468\;&#12471\;&#12483\;&#12463\;&quot\;\, &quot\;ms pgothic&quot\;\, &#46027\;&#50880\;\, dotum\, helvetica\, sans-serif\; font-weight: 600\;">6:00pm DSB (Jourrney Tribute)</span></span></p>\n\n<p class="font_8" style="margin: 0px\; padding: 0px\; border: 0px\; outline: 0px\; vertical-align: baseline\; background: 0px 0px\; font-variant-numeric: normal\; font-variant-east-asian: normal\; font-stretch: normal\; font-size: 18px\; line-height: 1.1\; font-family: proxima-n-w01-reg\, sans-serif\; color: rgb(65\, 65\, 65)\; pointer-events: auto\;"><span style="margin: 0px\; padding: 0px\; border: 0px\; outline: 0px\; vertical-align: baseline\; background: 0px 0px\;"><span class="color_14" style="margin: 0px\; padding: 0px\; border: 0px\; outline: 0px\; vertical-align: baseline\; background: 0px 0px\; color: rgb(0\, 46\, 254)\; font-family: arial\, &quot\;&#65357\;&#65363\; &#65360\;&#12468\;&#12471\;&#12483\;&#12463\;&quot\;\, &quot\;ms pgothic&quot\;\, &#46027\;&#50880\;\, dotum\, helvetica\, sans-serif\; font-weight: 600\;">8:00pm Led Zepagain</span></span></p>\n</div>\n&nbsp\;
LOCATION:Holy Name of Mary 724 E. Bonita Ave.\, San Dimas (Southeast Corner of Bonita & San Dimas Canyon Road)
UID:e.1883.630
SEQUENCE:3
DTSTAMP:20260422T181052Z
URL:https://business.lavernechamber.org/events/details/holy-name-of-mary-family-festival-2018-630
END:VEVENT

END:VCALENDAR
