BEGIN:VCALENDAR
VERSION:2.0
PRODID:-//ChamberMaster//Event Calendar 2.0//EN
METHOD:PUBLISH
X-PUBLISHED-TTL:P3D
REFRESH-INTERVAL:P3D
CALSCALE:GREGORIAN
BEGIN:VEVENT
DTSTART:20190330T173000Z
DTEND:20190330T190000Z
X-MICROSOFT-CDO-ALLDAYEVENT:FALSE
SUMMARY:Home Ownership Opportunity
DESCRIPTION:HOMEOWNERSHIP OPPORTUNITY\n\nAre you looking for an opportunity to purchase\n\na decent\, affordable home?\n\nPomona Valley Habitat for Humanity is refurbishing\n\na 1914 Craftsman-style home located in the City of Upland\n\nInformational meetings will be held to explain the program and to take initial\n\napplications. Applications will be available at the information meetings.\n\nApplicants will need to bring the following to the meeting:\n\n  Driver's license\n\n  Social security card\n\n  Proof of legal residency\n\n  Cashier check(s) or money order(s) -\n\n  $15 for one applicant and $25 for EACH additional applicant\n\n  Make payable to PVHFH (Pomona Valley Habitat for Humanity)\n\nPROGRAM REQUIREMENTS:\n\n  Must be a US citizen or legal resident\n\n  At least ONE resident of this home must be 62 years or older\n\n  Open to residents of our 16-city area (see side bar)\n\n  Must not own any real estate\, First Time Homebuyer\n\n  Income must fall between 30% and 50% of area median income limits\n\n  Must have fairly good credit\, and no liens or judgments\n\n  Must make a $2\,500 payment toward sales costs\n\n  Must qualify to pay on a 30-year\, no interest loan\n\n  Each applicant MUST complete 250 hours of sweat equity\n\n \nHabitat for Humanity is a non-profit ecumenical Christian housing ministry that welcomes all people and is dedicated to the cause of eliminating poverty housing.
X-ALT-DESC;FMTTYPE=text/html:<div><span style="font-size: 13px\;">HOMEOWNERSHIP OPPORTUNITY</span></div>\n\n<div><span style="font-size: 13px\;">Are you looking for an opportunity to purchase</span></div>\n\n<div><span style="font-size: 13px\;">a decent\, affordable home?</span></div>\n\n<div><span style="font-size: 13px\;">Pomona Valley Habitat for Humanity is refurbishing</span></div>\n\n<div><span style="font-size: 13px\;">a 1914 Craftsman-style home located in the City of Upland</span></div>\n\n<div><span style="font-size: 13px\;">Informational meetings will be held to explain the program and to take initial</span></div>\n\n<div><span style="font-size: 13px\;">applications. Applications will be available at the information meetings.</span>\n\n<div><span style="font-size: 13px\;">Applicants will need to bring the following to the meeting:</span></div>\n\n<div><span style="font-size: 13px\;">&#61623\; Driver&rsquo\;s license</span></div>\n\n<div><span style="font-size: 13px\;">&#61623\; Social security card</span></div>\n\n<div><span style="font-size: 13px\;">&#61623\; Proof of legal residency</span></div>\n\n<div><span style="font-size: 13px\;">&#61623\; Cashier check(s) or money order(s) -</span></div>\n\n<div><span style="font-size: 13px\;">&#61623\; $15 for one applicant and $25 for EACH additional applicant</span></div>\n\n<div><span style="font-size: 13px\;">&#61623\; Make payable to PVHFH (Pomona Valley Habitat for Humanity)</span></div>\n\n<div><span style="font-size: 13px\;">PROGRAM REQUIREMENTS:</span></div>\n\n<div><span style="font-size: 13px\;">&#61623\; Must be a US citizen or legal resident</span></div>\n\n<div><span style="font-size: 13px\;">&#61623\; At least ONE resident of this home must be 62 years or older</span></div>\n\n<div><span style="font-size: 13px\;">&#61623\; Open to residents of our 16-city area (see side bar)</span></div>\n\n<div><span style="font-size: 13px\;">&#61623\; Must not own any real estate\, First Time Homebuyer</span></div>\n\n<div><span style="font-size: 13px\;">&#61623\; Income must fall between 30% and 50% of area median income limits</span></div>\n\n<div><span style="font-size: 13px\;">&#61623\; Must have fairly good credit\, and no liens or judgments</span></div>\n\n<div><span style="font-size: 13px\;">&#61623\; Must make a $2\,500 payment toward sales costs</span></div>\n\n<div><span style="font-size: 13px\;">&#61623\; Must qualify to pay on a 30-year\, no interest loan</span></div>\n\n<div><span style="font-size: 13px\;">&#61623\; Each applicant MUST complete 250 hours of sweat equity</span><br />\n&nbsp\;\n<div><span style="font-size: 13px\;">Habitat for Humanity is a non-profit ecumenical Christian housing ministry that welcomes all people and is dedicated to the cause of eliminating poverty housing.</span></div>\n</div>\n<br />\n&nbsp\;</div>\n
LOCATION:Upland Brethren in Christ\, 845 W. Arrow Highway\, Upland\, CA 91786
UID:e.1883.1337
SEQUENCE:3
DTSTAMP:20260422T011746Z
URL:https://business.lavernechamber.org/events/details/home-ownership-opportunity-1337
END:VEVENT

END:VCALENDAR
