BEGIN:VCALENDAR
VERSION:2.0
PRODID:-//ChamberMaster//Event Calendar 2.0//EN
METHOD:PUBLISH
X-PUBLISHED-TTL:P3D
REFRESH-INTERVAL:P3D
CALSCALE:GREGORIAN
BEGIN:VEVENT
DTSTART:20190509T000000Z
DTEND:20190509T030000Z
X-MICROSOFT-CDO-ALLDAYEVENT:FALSE
SUMMARY:Home Town Heroes
DESCRIPTION:The business community and the citizens of La Verne and San Dimas have joined together to honor and recognize their First Responders.\n\n\n\nThis dinner and subsequent award presentation will spotlight a Police Officer and Deputy Sheriff\, Firefighter\, Emergency 911 Dispatcher\, Nurse\, Mountain Rescue\, and Military Veteran in each city for their unselfish actions on behalf of the citizens of La Verne and San Dimas. Additionally\, a Gold Star family from each city will be recognized at the ceremony. This event is wholly sponsored by business and community members.
X-ALT-DESC;FMTTYPE=text/html:<span style="color: rgb(29\, 33\, 41)\; font-family: Helvetica\, Arial\, sans-serif\; font-size: 14px\; white-space: pre-wrap\;">The business community and the citizens of La Verne and San Dimas have joined together to honor and recognize their First Responders.</span><br style="color: rgb(29\, 33\, 41)\; font-family: Helvetica\, Arial\, sans-serif\; font-size: 14px\; white-space: pre-wrap\;" />\n<br style="color: rgb(29\, 33\, 41)\; font-family: Helvetica\, Arial\, sans-serif\; font-size: 14px\; white-space: pre-wrap\;" />\n<span style="color: rgb(29\, 33\, 41)\; font-family: Helvetica\, Arial\, sans-serif\; font-size: 14px\; white-space: pre-wrap\;">This dinner and subsequent award presentation will spotlight a Police Officer and Deputy Sheriff\, Firefighter\, Emergency 911 Dispatcher\, Nurse\, Mountain Rescue\, and Military Veteran in each city for their unselfish actions on behalf of the citizens of La Verne and San Dimas. Additionally\, a Gold Star family from each city will be recognized at the ceremony. This event is wholly sponsored by business and community members.</span>
LOCATION:The Meeting Room at Hillcrest 2705 Mountain View Dirve
UID:e.1883.1320
SEQUENCE:3
DTSTAMP:20260421T234342Z
URL:https://business.lavernechamber.org/events/details/home-town-heroes-1320
END:VEVENT

END:VCALENDAR
