BEGIN:VCALENDAR
VERSION:2.0
PRODID:-//ChamberMaster//Event Calendar 2.0//EN
METHOD:PUBLISH
X-PUBLISHED-TTL:P3D
REFRESH-INTERVAL:P3D
CALSCALE:GREGORIAN
BEGIN:VEVENT
DTSTART:20191221T170000Z
DTEND:20191221T230000Z
X-MICROSOFT-CDO-ALLDAYEVENT:FALSE
SUMMARY:Household Hazardous Waste and Electronic Waste Roundup
DESCRIPTION:There will be a FREE collection event in La Verne on Saturday\, December 21st\, from 9:00 a.m. - 3:00 p.m. at Bracket Field Airport. Roundup is sponsored jointly by the Sanitation Districts and the Department of Public Works. The Household Hazardous Waste (HHW) Collection Program gives Los Angeles County residents a legal and cost-free way to dispose of unwanted household chemicals that cannot be disposed of in the regular trash.\n\n \nTHINGS WE WANT YOU TO BRING...\n\n  Motor oil\, antifreeze\, paint\, paint thinner\n\n  Turpentine\, cleaners with acids or lye\n\n  Pesticides and herbicides\n\n  Household and car batteries\n\n  Old computers and television sets\n\n  Sharps or used needles\n\n  Expired pharmaceuticals and mercury thermometers\n\n\n\nTHINGS WE DON'T WANT YOU TO BRING...\n\n  Explosives\, ammunition or radioactive materials\n\n  Waste from businesses will NOT be accepted\n\n  Trash or old tires\n\n  White goods such as washers\, stoves\, refrigerators or air conditioners\n\n\n\nHOW TO PREPARE...\n\n  In general\, there is a limit of 15 gallons or 125 lbs. per vehicle\n\n  Bring items in a sturdy box\, preferably in their original labeled containers\n\n  Be prepared to leave your containers\n\n  Do not mix products together
X-ALT-DESC;FMTTYPE=text/html:<span style="font-size: 13px\;">There will be a FREE collection event in La Verne on Saturday\, December 21st\, from 9:00 a.m. - 3:00 p.m. at Bracket Field Airport. Roundup is sponsored jointly by the Sanitation Districts and the Department of Public Works. The Household Hazardous Waste (HHW) Collection Program gives Los Angeles County residents a legal and cost-free way to dispose of unwanted household chemicals that cannot be disposed of in the regular trash.</span><br />\n&nbsp\;\n<div><span style="font-size: 13px\;">THINGS WE WANT YOU TO BRING...</span></div>\n\n<div><span style="font-size: 13px\;">&#61623\; Motor oil\, antifreeze\, paint\, paint thinner</span></div>\n\n<div><span style="font-size: 13px\;">&#61623\; Turpentine\, cleaners with acids or lye</span></div>\n\n<div><span style="font-size: 13px\;">&#61623\; Pesticides and herbicides</span></div>\n\n<div><span style="font-size: 13px\;">&#61623\; Household and car batteries</span></div>\n\n<div><span style="font-size: 13px\;">&#61623\; Old computers and television sets</span></div>\n\n<div><span style="font-size: 13px\;">&#61623\; Sharps or used needles</span></div>\n\n<div><span style="font-size: 13px\;">&#61623\; Expired pharmaceuticals and mercury thermometers</span></div>\n\n<div><br />\n<span style="font-size: 13px\;">THINGS WE DON&#39\;T WANT YOU TO BRING...</span></div>\n\n<div><span style="font-size: 13px\;">&#61623\; Explosives\, ammunition or radioactive materials</span></div>\n\n<div><span style="font-size: 13px\;">&#61623\; Waste from businesses will NOT be accepted</span></div>\n\n<div><span style="font-size: 13px\;">&#61623\; Trash or old tires</span></div>\n\n<div><span style="font-size: 13px\;">&#61623\; White goods such as washers\, stoves\, refrigerators or air conditioners</span>\n\n<div><br />\n<span style="font-size: 13px\;">HOW TO PREPARE...</span></div>\n\n<div><span style="font-size: 13px\;">&#61623\; In general\, there is a limit of 15 gallons or 125 lbs. per vehicle</span></div>\n\n<div><span style="font-size: 13px\;">&#61623\; Bring items in a sturdy box\, preferably in their original labeled containers</span></div>\n\n<div><span style="font-size: 13px\;">&#61623\; Be prepared to leave your containers</span></div>\n\n<div><span style="font-size: 13px\;">&#61623\; Do not mix products together</span></div>\n<br />\n<br />\n&nbsp\;</div>\n<br />\n&nbsp\;
LOCATION:Bracket Field Airport
UID:e.1883.2131
SEQUENCE:3
DTSTAMP:20260421T145022Z
URL:https://business.lavernechamber.org/events/details/household-hazardous-waste-and-electronic-waste-roundup-2131
END:VEVENT

END:VCALENDAR
