BEGIN:VCALENDAR
VERSION:2.0
PRODID:-//ChamberMaster//Event Calendar 2.0//EN
METHOD:PUBLISH
X-PUBLISHED-TTL:P3D
REFRESH-INTERVAL:P3D
CALSCALE:GREGORIAN
BEGIN:VEVENT
DTSTART:20140613T010000Z
DTEND:20140613T030000Z
X-MICROSOFT-CDO-ALLDAYEVENT:FALSE
SUMMARY:Installation & Awards Dinner
DESCRIPTION:Installation of Board of Directors and new Chair of the Board.  Also honoring some outstanding members for their support and commitment to the CHamber
X-ALT-DESC;FMTTYPE=text/html:Installation of Board of Directors and new Chair of the Board.&nbsp\; Also honoring some outstanding members for their support and commitment to the CHamber
LOCATION:Hillcrest - 2705 Mountain View Ave\, La Verne\, CA 91750
UID:e.1883.54
SEQUENCE:3
DTSTAMP:20260425T191957Z
URL:https://business.lavernechamber.org/events/details/installation-awards-dinner-06-12-2014-54
END:VEVENT

END:VCALENDAR
