BEGIN:VCALENDAR
VERSION:2.0
PRODID:-//ChamberMaster//Event Calendar 2.0//EN
METHOD:PUBLISH
X-PUBLISHED-TTL:P3D
REFRESH-INTERVAL:P3D
CALSCALE:GREGORIAN
BEGIN:VEVENT
DTSTART:20190322T160000Z
DTEND:20190322T220000Z
X-MICROSOFT-CDO-ALLDAYEVENT:FALSE
SUMMARY:Intellectual Property Law & Gender-Diversity Symposium
DESCRIPTION:The Intellectual Property Law & Diversity Symposium will bring together leading scholars and industry experts for an interactive panel discussion on intellectual property law\, gender\, and diversity.\n\nJoin us\, as we also celebrate JLBE's 25th Anniversary. \n\n\n\n\n\n\n\nOpening Remarks:\n\nHon. Tracy Nadzieja\n\nGender Panel:\n\nChristina "Tina" Loza\n\nTearra J. Vaughn\n\nPaul Y. Liu\n\nDiversity Panel:\n\nKevin J. Greene\n\nKyle Webb\n\nPaul Y. Liu\n\nKimberly Miller\n\nJoshua Kanassatega\n\nClosing Remarks:\n\nHon. Tracy Nadzieja
X-ALT-DESC;FMTTYPE=text/html:<div class="elementor-element elementor-element-124a1a0 elementor-widget elementor-widget-text-editor" data-element_type="text-editor.default" data-id="124a1a0" style="box-sizing: border-box\; margin: 0px 0px 20px\; padding: 0px\; border: 0px\; outline: 0px\; font-variant-numeric: inherit\; font-variant-east-asian: inherit\; font-stretch: inherit\; line-height: inherit\; vertical-align: baseline\; font-family: Domine\, sans-serif\; font-size: 14px\; position: relative\; color: rgb(0\, 0\, 0)\;">\n<div class="elementor-widget-container" style="box-sizing: border-box\; margin: 0px\; padding: 0px\; border: 0px\; outline: 0px\; font-variant: inherit\; font-stretch: inherit\; line-height: inherit\; vertical-align: baseline\; font-family: inherit\; font-style: inherit\; font-weight: inherit\; transition: background 0.3s ease 0s\, border 0.3s ease 0s\, border-radius 0.3s ease 0s\, box-shadow 0.3s ease 0s\, -webkit-border-radius 0.3s ease 0s\, -webkit-box-shadow 0.3s ease 0s\;">\n<div class="elementor-text-editor elementor-clearfix" style="box-sizing: border-box\; margin: 0px\; padding: 0px\; border: 0px\; outline: 0px\; font-variant: inherit\; font-stretch: inherit\; line-height: inherit\; vertical-align: baseline\; font-family: inherit\; font-style: inherit\; font-weight: inherit\;">\n<p style="box-sizing: border-box\; margin: 0px 0px 20px\; padding: 0px\; border: 0px\; outline: 0px\; font-variant: inherit\; font-stretch: inherit\; line-height: inherit\; vertical-align: baseline\; font-family: inherit\; font-style: inherit\; font-weight: inherit\;">The Intellectual Property Law &amp\; Diversity Symposium will bring together leading scholars and industry experts for an interactive panel discussion on intellectual property law\, gender\, and diversity.</p>\n\n<p style="box-sizing: border-box\; margin: 0px 0px 20px\; padding: 0px\; border: 0px\; outline: 0px\; font-variant: inherit\; font-stretch: inherit\; line-height: inherit\; vertical-align: baseline\; font-family: inherit\; font-style: inherit\; font-weight: inherit\;">Join us\, as we also celebrate JLBE&rsquo\;s 25th Anniversary.&nbsp\;</p>\n</div>\n</div>\n</div>\n\n<div class="elementor-element elementor-element-d115008 elementor-widget elementor-widget-text-editor" data-element_type="text-editor.default" data-id="d115008" style="box-sizing: border-box\; margin: 0px\; padding: 0px\; border: 0px\; outline: 0px\; font-variant-numeric: inherit\; font-variant-east-asian: inherit\; font-stretch: inherit\; line-height: inherit\; vertical-align: baseline\; font-family: Domine\, sans-serif\; font-size: 14px\; position: relative\; color: rgb(74\, 119\, 41)\;">\n<div class="elementor-widget-container" style="box-sizing: border-box\; margin: 0px\; padding: 0px\; border: 0px\; outline: 0px\; font-variant: inherit\; font-stretch: inherit\; line-height: inherit\; vertical-align: baseline\; font-family: inherit\; font-style: inherit\; font-weight: inherit\; transition: background 0.3s ease 0s\, border 0.3s ease 0s\, border-radius 0.3s ease 0s\, box-shadow 0.3s ease 0s\, -webkit-border-radius 0.3s ease 0s\, -webkit-box-shadow 0.3s ease 0s\;">\n<div class="elementor-text-editor elementor-clearfix" style="box-sizing: border-box\; margin: 0px\; padding: 0px\; border: 0px\; outline: 0px\; font-variant: inherit\; font-stretch: inherit\; line-height: inherit\; vertical-align: baseline\; font-family: inherit\; font-style: inherit\; font-weight: inherit\;">\n<p style="box-sizing: border-box\; margin: 0px 0px 20px\; padding: 0px\; border: 0px\; outline: 0px\; font-variant: inherit\; font-stretch: inherit\; line-height: inherit\; vertical-align: baseline\; font-family: inherit\; font-style: inherit\; font-weight: inherit\;"><span style="box-sizing: border-box\; margin: 0px\; padding: 0px\; border: 0px\; outline: 0px\; font-variant: inherit\; font-stretch: inherit\; line-height: inherit\; vertical-align: baseline\; font-family: inherit\; font-style: inherit\; font-weight: 600\;">Opening Remarks:</span><br style="box-sizing: border-box\;" />\nHon. Tracy Nadzieja</p>\n\n<p style="box-sizing: border-box\; margin: 0px 0px 20px\; padding: 0px\; border: 0px\; outline: 0px\; font-variant-numeric: inherit\; font-variant-east-asian: inherit\; font-stretch: inherit\; line-height: inherit\; vertical-align: baseline\; font-family: Domine\, sans-serif\; font-size: 14px\; color: rgb(0\, 0\, 0)\;"><span style="box-sizing: border-box\; margin: 0px\; padding: 0px\; border: 0px\; outline: 0px\; font-variant: inherit\; font-stretch: inherit\; line-height: inherit\; vertical-align: baseline\; font-family: inherit\; font-style: inherit\; font-weight: 600\;">Gender Panel:</span><br style="box-sizing: border-box\;" />\nChristina &ldquo\;Tina&rdquo\; Loza<br style="box-sizing: border-box\;" />\nTearra J. Vaughn<br style="box-sizing: border-box\;" />\nPaul Y. Liu</p>\n\n<p style="box-sizing: border-box\; margin: 0px 0px 20px\; padding: 0px\; border: 0px\; outline: 0px\; font-variant-numeric: inherit\; font-variant-east-asian: inherit\; font-stretch: inherit\; line-height: inherit\; vertical-align: baseline\; font-family: Domine\, sans-serif\; font-size: 14px\; color: rgb(0\, 0\, 0)\;"><span style="box-sizing: border-box\; margin: 0px\; padding: 0px\; border: 0px\; outline: 0px\; font-variant: inherit\; font-stretch: inherit\; line-height: inherit\; vertical-align: baseline\; font-family: inherit\; font-style: inherit\; font-weight: 600\;">Diversity Panel:</span><br style="box-sizing: border-box\;" />\nKevin J. Greene<br style="box-sizing: border-box\;" />\nKyle Webb<br style="box-sizing: border-box\;" />\nPaul Y. Liu<br style="box-sizing: border-box\;" />\nKimberly Miller<br style="box-sizing: border-box\;" />\nJoshua Kanassatega</p>\n\n<p style="box-sizing: border-box\; margin: 0px 0px 20px\; padding: 0px\; border: 0px\; outline: 0px\; font-variant-numeric: inherit\; font-variant-east-asian: inherit\; font-stretch: inherit\; line-height: inherit\; vertical-align: baseline\; font-family: Domine\, sans-serif\; font-size: 14px\; color: rgb(0\, 0\, 0)\;"><span style="box-sizing: border-box\; margin: 0px\; padding: 0px\; border: 0px\; outline: 0px\; font-variant: inherit\; font-stretch: inherit\; line-height: inherit\; vertical-align: baseline\; font-family: inherit\; font-style: inherit\; font-weight: 600\;">Closing Remarks:</span><br style="box-sizing: border-box\;" />\nHon. Tracy Nadzieja</p>\n</div>\n</div>\n</div>\n
LOCATION:The event will be held at the Abraham Campus Center\, located at the University of La Verne (Main Campus).
UID:e.1883.1326
SEQUENCE:3
DTSTAMP:20260422T012110Z
URL:https://business.lavernechamber.org/events/details/intellectual-property-law-gender-diversity-symposium-1326
END:VEVENT

END:VCALENDAR
