BEGIN:VCALENDAR
VERSION:2.0
PRODID:-//ChamberMaster//Event Calendar 2.0//EN
METHOD:PUBLISH
X-PUBLISHED-TTL:P3D
REFRESH-INTERVAL:P3D
CALSCALE:GREGORIAN
BEGIN:VEVENT
DTSTART:20180123T160000Z
DTEND:20180123T173000Z
X-MICROSOFT-CDO-ALLDAYEVENT:FALSE
SUMMARY:Introducing the NEW Pomona Valley Health Center in La Verne
DESCRIPTION:The Hillcrest Business Associates invite you to attend:\n\n\n\nIntroducing the new Pomona Valley Health Center in La Verne\n                            \n\n Presented by:    \n\nJon Berends - Vice President\, Ambulatory Services\, PVHMC\n\nMichael Deanda\, MD - Medical Director\, PVHC La Verne\n\n\n\nProgram to include:\n\nMeet and Greet with the PVHC physicians \n\n An overview of services offered at the new health care center:\n\n     Primary Care\n\n     Urgent Care\n\n     Occupational Medicine program for local employers\n\n     Physical Therapy & Rehabilitation (with Aquatic Therapy Pool)\n\n     State of the Art Digital Imaging - CT\, MRI\, 3/D Mammography\n\n\n\nCOMPLIMENTARY BREAKFAST
X-ALT-DESC;FMTTYPE=text/html:<div style="text-align: center\;"><br />\n<strong>The Hillcrest Business Associates invite you to attend:</strong></div>\n\n<div style="text-align: center\;"><br />\n<strong><span style="font-size:16px\;"><em>Introducing the new Pomona Valley Health Center in La Verne</em></span></strong></div>\n&#8203\;&nbsp\;&nbsp\;&nbsp\;&nbsp\;&nbsp\;&nbsp\;&nbsp\;&nbsp\;&nbsp\;&nbsp\;&nbsp\;&nbsp\;&nbsp\;&nbsp\;&nbsp\;&nbsp\;&nbsp\;&nbsp\;&nbsp\;&nbsp\;&nbsp\;&nbsp\;&nbsp\;&nbsp\;&nbsp\;&nbsp\;&nbsp\;<br />\n<strong>&nbsp\;Presented by:</strong>&nbsp\;&nbsp\;&nbsp\;&nbsp\;<br />\nJon Berends - Vice President\, Ambulatory Services\, PVHMC<br />\nMichael Deanda\, MD - Medical Director\, PVHC La Verne<br />\n<br />\n<strong>Program to include:</strong><br />\nMeet and Greet with the PVHC physicians&#8203\;<br />\n&#8203\;An overview of services offered at the new health care center:<br />\n&nbsp\;&nbsp\;&nbsp\;&nbsp\;&bull\;Primary Care<br />\n&nbsp\;&nbsp\;&nbsp\;&nbsp\;&bull\;Urgent Care<br />\n&nbsp\;&nbsp\;&nbsp\;&nbsp\;&bull\;Occupational Medicine program for local employers<br />\n&nbsp\;&nbsp\;&nbsp\;&nbsp\;&bull\;Physical Therapy &amp\; Rehabilitation (with Aquatic Therapy Pool)<br />\n&nbsp\;&nbsp\;&nbsp\;&nbsp\;&bull\;State of the Art Digital Imaging - CT\, MRI\, 3/D Mammography<br />\n<br />\nCOMPLIMENTARY BREAKFAST
LOCATION:The Meeting House at Hillcrest\, 2705 Mt. View Drive\, La Verne\, CA 91750
UID:e.1883.520
SEQUENCE:3
DTSTAMP:20260422T230225Z
URL:https://business.lavernechamber.org/events/details/introducing-the-new-pomona-valley-health-center-in-la-verne-520
END:VEVENT

END:VCALENDAR
