BEGIN:VCALENDAR
VERSION:2.0
PRODID:-//ChamberMaster//Event Calendar 2.0//EN
METHOD:PUBLISH
X-PUBLISHED-TTL:P3D
REFRESH-INTERVAL:P3D
CALSCALE:GREGORIAN
BEGIN:VEVENT
DTSTART:20191024T023000Z
DTEND:20191024T044500Z
X-MICROSOFT-CDO-ALLDAYEVENT:FALSE
SUMMARY:IVRT presents PETER AND THE STARCATCHER
DESCRIPTION:PETER AND THE STARCATCHER\n\nHONORARY PRODUCERS: FRANK AND DONNA MARIE MINANO\n\nA play with music for the whole family\, based on the 2004 novel. Through quick pacing and creative staging\, learn the story behind the J.M. Barrie characters we know as Peter Pan\, Tinker\, Mrs. Darling\, and Captain Hook.\n\nIVRT creatively upcycles and modifies existing sets for its weekday plays at the historic Candlelight Pavilion. Once the gymnasium of the old Claremont schoolhouse\, the Pavilion was completely restored in 1985. \n\nCome enjoy a midweek escape at this classy\, yet friendly\, local establishment.
X-ALT-DESC;FMTTYPE=text/html:<p><span style="color:#4B0082"><span style="font-size:22px"><span style="font-family:tahoma"><strong>PETER AND THE STARCATCHER</strong></span></span></span></p>\n\n<p><span style="color:#4B0082"><strong><span style="font-size:14px"><span style="font-family:tahoma">HONORARY PRODUCERS:&nbsp\;FRANK AND DONNA MARIE MINANO</span></span></strong></span></p>\n\n<p><span style="color:#4B0082"><span style="font-size:14px"><span style="font-family:tahoma">A play with music for the whole family\, based on the 2004 novel. Through quick pacing and creative staging\, learn the story&nbsp\;behind the J.M. Barrie characters we know as Peter Pan\, Tinker\, Mrs. Darling\, and Captain Hook.</span></span></span></p>\n\n<p><span style="color:#4B0082"><span style="font-size:14px"><span style="font-family:tahoma">IVRT creatively upcycles and modifies existing sets for its weekday plays at the historic Candlelight Pavilion. Once the gymnasium of the old Claremont schoolhouse\, the Pavilion was completely restored in 1985.&nbsp\;</span></span></span></p>\n\n<p><span style="color:#4B0082"><span style="font-size:14px"><span style="font-family:tahoma">Come enjoy a midweek escape at this classy\, yet friendly\, local establishment.</span></span></span></p>\n
LOCATION:IVRT performs at the Candlelight Pavilion at 455 W Foothill Blvd at the corner of Indian Hill behind Trader Joe's in Claremont. Free parking is located just north of the theatre.
UID:e.1883.1707
SEQUENCE:3
DTSTAMP:20260420T102639Z
URL:https://business.lavernechamber.org/events/details/ivrt-presents-peter-and-the-starcatcher-1707
END:VEVENT

END:VCALENDAR
