BEGIN:VCALENDAR
VERSION:2.0
PRODID:-//ChamberMaster//Event Calendar 2.0//EN
METHOD:PUBLISH
X-PUBLISHED-TTL:P3D
REFRESH-INTERVAL:P3D
CALSCALE:GREGORIAN
BEGIN:VEVENT
DTSTART:20190918T023000Z
DTEND:20190918T040000Z
X-MICROSOFT-CDO-ALLDAYEVENT:FALSE
SUMMARY:IVRT presents the Regional Premier of the Broadway musical FUN HOME
DESCRIPTION:Fun Home\n\nFor Mature Audiences\n\nHONORARY PRODUCERS: SCOTT ANTHONY BRENNAN\, BRIDGET HEALY\, AND EDGAR W. REECE\n\nWhen her father dies unexpectedly\, graphic novelist Alison dives deep into her past to tell the story of the volatile\, brilliant\, one-of-a-kind man whose temperament and secrets defined her family and her life. Moving between past and present\, Alison relives her unique childhood playing at the family's Bechdel Funeral Home\, her growing understanding of her own sexuality\, and the looming\, unanswerable questions about her father's hidden desires. A regional premiere. FOR MATURE AUDIENCES
X-ALT-DESC;FMTTYPE=text/html:<p><span style="font-size:22px"><span style="font-family:tahoma"><strong><span style="color:rgb(51\, 51\, 153)">Fun Home</span></strong></span></span></p>\n\n<p><span style="font-size:14px"><span style="font-family:tahoma"><span style="color:rgb(51\, 51\, 153)"><em>For Mature Audiences</em></span></span></span></p>\n\n<p><strong><span style="font-size:14px"><span style="font-family:tahoma"><span style="color:rgb(51\, 51\, 153)">HONORARY PRODUCERS: SCOTT ANTHONY BRENNAN\, BRIDGET HEALY\, AND EDGAR W. REECE</span></span></span></strong></p>\n\n<p><span style="font-size:14px"><span style="font-family:tahoma"><span style="color:rgb(51\, 51\, 153)">When her father dies unexpectedly\, graphic novelist Alison dives deep into her past to tell the story of the volatile\, brilliant\, one-of-a-kind man whose temperament and secrets defined her family and her life. Moving between past and present\, Alison relives her unique childhood playing at the family&rsquo\;s Bechdel Funeral Home\, her growing understanding of her own sexuality\, and the looming\, unanswerable questions about her father&rsquo\;s hidden desires. A regional premiere.&nbsp\;<strong>FOR MATURE AUDIENCES</strong></span></span></span></p>\n
LOCATION:IVRT performs at the Candlelight Pavilion at 455 W Foothill Blvd at the corner of Indian Hill behind Trader Joe's in Claremont. Free parking is located just north of the theatre.
UID:e.1883.1705
SEQUENCE:3
DTSTAMP:20260421T161939Z
URL:https://business.lavernechamber.org/events/details/ivrt-presents-the-regional-premier-of-the-broadway-musical-fun-home-1705
END:VEVENT

END:VCALENDAR
