BEGIN:VCALENDAR
VERSION:2.0
PRODID:-//ChamberMaster//Event Calendar 2.0//EN
METHOD:PUBLISH
X-PUBLISHED-TTL:P3D
REFRESH-INTERVAL:P3D
CALSCALE:GREGORIAN
BEGIN:VEVENT
DTSTART:20190909T230000Z
DTEND:20190910T020000Z
X-MICROSOFT-CDO-ALLDAYEVENT:FALSE
SUMMARY:Jam Session - Ukulele and Hula at David & Margaret Youth and Family Services
DESCRIPTION:An event for the community to dance ... play ... get up and JAM! Whether you want to learn the graceful gestures of hula\, or play some island tunes on your ukulele\, Jason Arimoto will lead the way in a Hawaiian Island celebration like no other! Ukuleles will be provided. All ages and skill levels welcome. Bring a lawn chair\, blanket and a picnic! (No glass containers or alcohol\, please.) Dave & Maggie's Cafe will be selling refreshments.
X-ALT-DESC;FMTTYPE=text/html:An event for the community to dance ... play ... get up and JAM! Whether you want to learn the graceful gestures of hula\, or play some island tunes on your ukulele\, Jason Arimoto will lead the way in a Hawaiian Island celebration like no other! Ukuleles will be provided. All ages and skill levels welcome. Bring a lawn chair\, blanket and a picnic! (No glass containers or alcohol\, please.) Dave &amp\; Maggie&#39\;s Cafe will be selling refreshments.
LOCATION:David & Margaret Youth and Family Services
UID:e.1883.1734
SEQUENCE:3
DTSTAMP:20260421T161825Z
URL:https://business.lavernechamber.org/events/details/jam-session-ukulele-and-hula-at-david-margaret-youth-and-family-services-1734
END:VEVENT

END:VCALENDAR
