BEGIN:VCALENDAR
VERSION:2.0
PRODID:-//ChamberMaster//Event Calendar 2.0//EN
METHOD:PUBLISH
X-PUBLISHED-TTL:P3D
REFRESH-INTERVAL:P3D
CALSCALE:GREGORIAN
BEGIN:VEVENT
DTSTART:20190620T163000Z
DTEND:20190620T223000Z
X-MICROSOFT-CDO-ALLDAYEVENT:FALSE
SUMMARY:LA County Fair 2019 Job Fair
DESCRIPTION:We are looking to fill more than 700 seasonal positions for the 2019 LA County Fair! We are hiring in admissions\, credentials\, guest relations\, parking\, carnival\, facilities\, creative\, and much more!\n \n\n\n\n	Applications must be completed beforehand at lacountyfairjobs.com \n	Be prepared for face-to-face interviews the day of the job fair\n	Computers will be available onsite for use to apply online\n\n\n\nFor more information on the job fair\, call (909) 865-4308.\n\nSee all job listings at lacountyfairjobs.com
X-ALT-DESC;FMTTYPE=text/html:<div><span style="color:#4b4f56"><span style="font-size:16pt">We are looking to fill more than 700 seasonal positions for the 2019 LA County Fair! We are hiring in admissions\, credentials\, guest relations\, parking\, carnival\, facilities\, creative\, and much more!</span></span></div>\n&nbsp\;\n\n<div>\n<ul>\n	<li style="text-align:justify"><span style="color:#4B4F56"><span style="font-size:16.0pt">Applications must be completed beforehand at lacountyfairjobs.com&nbsp\;</span></span></li>\n	<li style="text-align:justify"><span style="color:#4B4F56"><span style="font-size:16.0pt">Be prepared for face-to-face interviews the day of the job fair</span></span></li>\n	<li style="text-align:justify"><span style="color:#4B4F56"><span style="font-size:16.0pt">Computers will be available onsite for use to apply online</span></span></li>\n</ul>\n<br />\n<span style="color:#4B4F56"><span style="font-size:16.0pt">For more information on the job fair\, call (909) 865-4308.</span></span><br />\n<span style="color:#4B4F56"><span style="font-size:16.0pt">See all job listings at lacountyfairjobs.com&nbsp\;</span></span><br />\n&nbsp\;</div>\n&nbsp\;\n\n<div>&nbsp\;</div>\n
LOCATION:Avalon Building at Fairplex Free Parking Available at Gate 1
UID:e.1883.1449
SEQUENCE:3
DTSTAMP:20260421T204525Z
URL:https://business.lavernechamber.org/events/details/la-county-fair-2019-job-fair-1449
END:VEVENT

END:VCALENDAR
