BEGIN:VCALENDAR
VERSION:2.0
PRODID:-//ChamberMaster//Event Calendar 2.0//EN
METHOD:PUBLISH
X-PUBLISHED-TTL:P3D
REFRESH-INTERVAL:P3D
CALSCALE:GREGORIAN
BEGIN:VEVENT
DTSTART:20190505T200000Z
DTEND:20190506T000000Z
X-MICROSOFT-CDO-ALLDAYEVENT:FALSE
SUMMARY:La Verne Brewing 6th Anniversary Celebration
DESCRIPTION:6 Years. You know what that means. It is time for a great party and Car Show at the Brewery. We welcome all cars\, motorcycles\, and just about anything you want to show off. Advanced entry fee is $25\, which includes a registration gift bag\, commemorative gift glass\, beer coupon and more. Shine it and show it! Food\, Entertainment and Craft Beer! I challenge you to come up with a better combination.\n\nPreregistration is encouraged for space planning. There will be fun for the whole family hosted in the parking area of the Brewery. Shine your car up and join us on Sunday May 5th (Cinco de Mayo). Pre-Registration $25 - Registration day of event $30.\n\nCar show proceeds go to the Bonita High School Automotive Technology Program. Limited to the first 50 cars registered. This is a rain or shine event!
X-ALT-DESC;FMTTYPE=text/html:<p style="margin: 0px\; padding: 0px\; color: rgb(111\, 114\, 135)\; font-family: &quot\;Neue Plak&quot\;\, -apple-system\, BlinkMacSystemFont\, Roboto\, &quot\;Helvetica Neue&quot\;\, Helvetica\, Tahoma\, Arial\, sans-serif\; font-size: 15px\; letter-spacing: 0.5px\;"><span class="qowt-font2-Calibri" style="padding-top: 0px\;">6 Years. You know what that means. It is time for a great party and Car Show at the Brewery.&nbsp\;</span><span class="qowt-font2-Calibri">We welcome all cars\, motorcycles\, and just about anything you want to show off.&nbsp\;</span><span class="qowt-font2-Calibri">Advanced entry fee is $2</span><span class="qowt-font2-Calibri">5</span><span class="qowt-font2-Calibri">\, which includes a registration gift bag\, commemorative gift glass\, beer coupon and more. Shine it and show it!&nbsp\;</span><span class="qowt-font2-Calibri">Food\, Entertainment and Craft Beer!&nbsp\;</span><span class="qowt-font2-Calibri">I challenge you to come up with a better combination.</span></p>\n\n<p style="margin: 0px\; padding: 10px 0px 0px\; color: rgb(111\, 114\, 135)\; font-family: &quot\;Neue Plak&quot\;\, -apple-system\, BlinkMacSystemFont\, Roboto\, &quot\;Helvetica Neue&quot\;\, Helvetica\, Tahoma\, Arial\, sans-serif\; font-size: 15px\; letter-spacing: 0.5px\;"><span class="qowt-font2-Calibri" style="padding-top: 0px\;">Preregistration is encouraged for space planning. There will be fun for the whole family hosted&nbsp\;</span><span class="qowt-font2-Calibri">in the</span><span class="qowt-font2-Calibri">&nbsp\;parking area of the Brewery.&nbsp\;</span><span class="qowt-font2-Calibri">S</span><span class="qowt-font2-Calibri">hine your car up and join us on Sunday&nbsp\;</span><span class="qowt-font2-Calibri">May 5th (Cinco de Mayo)</span><span class="qowt-font2-Calibri">.&nbsp\;</span><span class="qowt-font2-Calibri">Pre-Registration $25 - Registration day of event $30</span><span class="qowt-font2-Calibri">.</span></p>\n\n<p style="margin: 0px\; padding: 10px 0px 0px\; color: rgb(111\, 114\, 135)\; font-family: &quot\;Neue Plak&quot\;\, -apple-system\, BlinkMacSystemFont\, Roboto\, &quot\;Helvetica Neue&quot\;\, Helvetica\, Tahoma\, Arial\, sans-serif\; font-size: 15px\; letter-spacing: 0.5px\;"><span class="qowt-font2-Calibri" style="padding-top: 0px\;">Car show proceeds go to the Bonita High School Automotive Technology Program. Limited to the first 50 cars registered. This is a rain or shine event!</span></p>\n
LOCATION:La Verne Brewing Company
UID:e.1883.1340
SEQUENCE:3
DTSTAMP:20260421T234950Z
URL:https://business.lavernechamber.org/events/details/la-verne-brewing-6th-anniversary-celebration-1340
END:VEVENT

END:VCALENDAR
