BEGIN:VCALENDAR
VERSION:2.0
PRODID:-//ChamberMaster//Event Calendar 2.0//EN
METHOD:PUBLISH
X-PUBLISHED-TTL:P3D
REFRESH-INTERVAL:P3D
CALSCALE:GREGORIAN
BEGIN:VEVENT
DTSTART:20190906T070000Z
DTEND:20190907T065500Z
X-MICROSOFT-CDO-ALLDAYEVENT:FALSE
SUMMARY:La Verne Day at the Fair
DESCRIPTION:Fairplex\, home of the Los Angeles County Fair\, has long been a proud partner to its surrounding community. We hope that you'll join us on Friday\, September 6th as we honor the City of La Verne during La Verne Day at the Fair!\n\nIn addition to all that the Fair has to offer\, La Verne Day will feature:\n\n\n	Community Day Parade (Register Here)\n	High School Marching Band Competition\n	Community Hero Awards Ceremony\n\n\nThis year we're bringing back Dollar Day for La Verne residents on September 6th!
X-ALT-DESC;FMTTYPE=text/html:<p style="box-sizing: border-box\; margin: 0px\; padding: 0px 0px 15px\; color: rgb(11\, 80\, 92)\; font-family: CaminoReg\, arial\; font-size: 16px\;">Fairplex\, home of the Los Angeles County Fair\, has long been a proud partner to its surrounding community. We hope that you&rsquo\;ll join us on&nbsp\;<span style="box-sizing: border-box\; font-weight: 700\;">Friday\, September 6th</span>&nbsp\;as we honor the City of La Verne during La Verne Day at the Fair!</p>\n\n<p style="box-sizing: border-box\; margin: 0px\; padding: 0px 0px 15px\; color: rgb(11\, 80\, 92)\; font-family: CaminoReg\, arial\; font-size: 16px\;">In addition to all that the Fair has to offer\, La Verne Day will feature:</p>\n\n<ul style="box-sizing: border-box\; margin-top: 0px\; margin-bottom: 10px\; padding-left: 20px\; color: rgb(118\, 118\, 118)\; font-family: CaminoReg\, arial\; font-size: 16px\;">\n	<li class="color-darkgreen" style="box-sizing: border-box\; color: rgb(11\, 80\, 92)\;">Community Day Parade (<a class="body-link" href="https://lacountyfair.com/entertainment/be-an-entertainer/parades" style="box-sizing: border-box\; background-color: transparent\; color: rgb(0\, 108\, 52)\; text-decoration-line: none\; font-weight: 700\;" target="_blank">Register Here</a>)</li>\n	<li class="color-darkgreen" style="box-sizing: border-box\; color: rgb(11\, 80\, 92)\;">High School Marching Band Competition</li>\n	<li class="color-darkgreen" style="box-sizing: border-box\; color: rgb(11\, 80\, 92)\;">Community Hero Awards Ceremony</li>\n</ul>\n\n<p style="box-sizing: border-box\; margin: 0px\; padding: 0px 0px 15px\; color: rgb(11\, 80\, 92)\; font-family: CaminoReg\, arial\; font-size: 16px\;"><span style="box-sizing: border-box\; font-weight: 700\;"><span style="box-sizing: border-box\; font-size: 20px\;">This year we&#39\;re bringing back Dollar Day for La Verne residents on September 6<span style="box-sizing: border-box\; position: relative\; font-size: 15px\; line-height: 0\; vertical-align: baseline\; top: -0.5em\;">th</span>!</span></span></p>\n\n<p style="box-sizing: border-box\; margin: 0px\; padding: 0px 0px 15px\; color: rgb(11\, 80\, 92)\; font-family: CaminoReg\, arial\; font-size: 16px\;">&nbsp\;</p>\n
LOCATION:Fairplex\, home of the Los Angeles County Fair
UID:e.1883.1499
SEQUENCE:3
DTSTAMP:20260421T161423Z
URL:https://business.lavernechamber.org/events/details/la-verne-day-at-the-fair-1499
END:VEVENT

END:VCALENDAR
