BEGIN:VCALENDAR
VERSION:2.0
PRODID:-//ChamberMaster//Event Calendar 2.0//EN
METHOD:PUBLISH
X-PUBLISHED-TTL:P3D
REFRESH-INTERVAL:P3D
CALSCALE:GREGORIAN
BEGIN:VEVENT
DTSTART;VALUE=DATE:20140917
DTEND;VALUE=DATE:20140918
TRANSP:TRANSPARENT
X-MICROSOFT-CDO-ALLDAYEVENT:TRUE
SUMMARY:La Verne Day at the LA County Fair
DESCRIPTION:La Verne Day at the L.A. County Fair.  Join us in celebrating the City of La Verne
X-ALT-DESC;FMTTYPE=text/html:La Verne Day at the L.A. County Fair.&nbsp\; Join us in celebrating the City of La Verne
LOCATION:Los Angeles County Fair
UID:e.1883.58
SEQUENCE:3
DTSTAMP:20260425T144145Z
URL:https://business.lavernechamber.org/events/details/la-verne-day-at-the-la-county-fair-09-17-2014-58
END:VEVENT

END:VCALENDAR
