BEGIN:VCALENDAR
VERSION:2.0
PRODID:-//ChamberMaster//Event Calendar 2.0//EN
METHOD:PUBLISH
X-PUBLISHED-TTL:P3D
REFRESH-INTERVAL:P3D
CALSCALE:GREGORIAN
BEGIN:VEVENT
DTSTART:20170923T150000Z
DTEND:20170923T200000Z
X-MICROSOFT-CDO-ALLDAYEVENT:FALSE
SUMMARY:La Verne FRESH Old Town Farmers Market
DESCRIPTION:La Verne Fresh Old Town La Verne's certified Farmers Market continues every Saturday morning\, with an emphasis on fresh produce! The Farmers Market is located at the corner of D Street and Third Street\, south of Bonita Avenue. The market features a wide variety of fresh fruits and vegetables\, specialty foods\, fresh flowers and plants\, tasty food offerings\, and unique handcrafted artisan goods. Live music is always provided. The merchants of Old Town La Verne sponsor and support this Farmers Market and hope you will support La Verne's own Farmers Market. For current information please check out La Verne FRESH Old Town Certified Farmers Market on Facebook\, or call (714) 345-3087 or City Hall at (909) 596-8706.
X-ALT-DESC;FMTTYPE=text/html:La Verne Fresh Old Town La Verne&#39\;s certified Farmers Market continues every Saturday morning\, with an emphasis on fresh produce! The Farmers Market is located at the corner of D Street and Third Street\, south of Bonita Avenue. The market features a wide variety of fresh fruits and vegetables\, specialty foods\, fresh flowers and plants\, tasty food offerings\, and unique handcrafted artisan goods. Live music is always provided. The merchants of Old Town La Verne sponsor and support this Farmers Market and hope you will support La Verne&#39\;s own Farmers Market. For current information please check out La Verne FRESH Old Town Certified Farmers Market on Facebook\, or call (714) 345-3087 or City Hall at (909) 596-8706.
LOCATION:Old Town La Verne at 3rd and D Streets
UID:e.1883.333
SEQUENCE:3
DTSTAMP:20260423T051411Z
URL:https://business.lavernechamber.org/events/details/la-verne-fresh-old-town-farmers-market-09-23-2017-333
END:VEVENT

END:VCALENDAR
