BEGIN:VCALENDAR
VERSION:2.0
PRODID:-//ChamberMaster//Event Calendar 2.0//EN
METHOD:PUBLISH
X-PUBLISHED-TTL:P3D
REFRESH-INTERVAL:P3D
CALSCALE:GREGORIAN
BEGIN:VEVENT
DTSTART:20180930T000000Z
DTEND:20180930T033000Z
X-MICROSOFT-CDO-ALLDAYEVENT:FALSE
SUMMARY:La Verne On Tap
DESCRIPTION:La Verne On Tap - More Than 20 Beer and Food Stops in the Beautiful Ambience of Old Town!\n\nThe historic tree-lit streets of Old Town La Verne come alive to amazing Tastes\, Sights and Sounds on September 29th from 5pm to 8:30pm. Following in the huge success of the Wine Walk\, the Old Town La Verne Business Association is now launching the 1st Annual La Verne On Tap Beer Walk. More than 20 businesses throughout the District will offer samples of Craft Beers from 12 Local Breweries and Unique Foods from our amazing selection of local restaurants\, paired to enhance you enjoyment.
X-ALT-DESC;FMTTYPE=text/html:<p style="margin: 0px\; padding: 0px\; color: rgb(102\, 106\, 115)\; font-family: &quot\;Benton Sans&quot\;\, -apple-system\, BlinkMacSystemFont\, Roboto\, &quot\;Helvetica Neue&quot\;\, Helvetica\, Tahoma\, Arial\, sans-serif\; font-size: 15px\; letter-spacing: 0.5px\;"><span style="padding-top: 0px\;"><em style="padding-top: 0px\;"><span style="font-weight: 700\; padding-top: 0px\;">La Verne On Tap - More Than 20 Beer and Food Stops in the Beautiful Ambience of Old Town!</span></em></span></p>\n\n<p style="margin: 0px\; padding: 10px 0px 0px\; color: rgb(102\, 106\, 115)\; font-family: &quot\;Benton Sans&quot\;\, -apple-system\, BlinkMacSystemFont\, Roboto\, &quot\;Helvetica Neue&quot\;\, Helvetica\, Tahoma\, Arial\, sans-serif\; font-size: 15px\; letter-spacing: 0.5px\;"><span style="padding-top: 0px\;">The historic tree-lit streets of Old Town La Verne come alive to amazing Tastes\, Sights and Sounds on September 29th from 5pm to 8:30pm.&nbsp\;<span style="padding-top: 0px\;">Following in the huge success of the Wine Walk\,&nbsp\;</span>the Old Town La Verne Business Association is now launching the 1st Annual La Verne On Tap Beer Walk. More than 20 businesses throughout the District will offer samples of Craft Beers from 12 Local Breweries and Unique Foods from our amazing selection of local restaurants\, paired to enhance you enjoyment.</span></p>\n
LOCATION:Corner of Bonita and D Streets - Old Town La Verne
UID:e.1883.1201
SEQUENCE:3
DTSTAMP:20260422T103529Z
URL:https://business.lavernechamber.org/events/details/la-verne-on-tap-1201
END:VEVENT

END:VCALENDAR
