BEGIN:VCALENDAR
VERSION:2.0
PRODID:-//ChamberMaster//Event Calendar 2.0//EN
METHOD:PUBLISH
X-PUBLISHED-TTL:P3D
REFRESH-INTERVAL:P3D
CALSCALE:GREGORIAN
BEGIN:VEVENT
DTSTART:20190929T000000Z
DTEND:20190929T040000Z
X-MICROSOFT-CDO-ALLDAYEVENT:FALSE
SUMMARY:La Verne On Tap\, Old Town Beer Walk
DESCRIPTION:La Verne On Tap - More Than 20 Beer and Food Stops in the Beautiful Ambiance of Old Town!\n\nThe historic tree-lit streets of Old Town La Verne come alive to amazing Tastes\, Sights and Sounds on September 28th from 5pm to 9:00pm. More than 20 businesses throughout the District will offer samples of Craft Beers from  Local Breweries and Unique Foods from our amazing selection of local restaurants\, paired to enhance you enjoyment.
X-ALT-DESC;FMTTYPE=text/html:<p benton="" font-size:="" helvetica="" letter-spacing:="" style="margin: 0px\; padding: 0px\; color: rgb(102\, 106\, 115)\; font-family: "><span style="padding-top: 0px\;"><em style="padding-top: 0px\;"><span style="font-weight: 700\; padding-top: 0px\;">La Verne On Tap - More Than 20 Beer and Food Stops in the Beautiful Ambiance of Old Town!</span></em></span></p>\n\n<p benton="" font-size:="" helvetica="" letter-spacing:="" style="margin: 0px\; padding: 10px 0px 0px\; color: rgb(102\, 106\, 115)\; font-family: "><span style="padding-top: 0px\;">The historic tree-lit streets of Old Town La Verne come alive to amazing Tastes\, Sights and Sounds on September 28th from 5pm to 9:00pm.&nbsp\;More than 20 businesses throughout the District will offer samples of Craft Beers from&nbsp\; Local Breweries and Unique Foods from our amazing selection of local restaurants\, paired to enhance you enjoyment.</span></p>\n
LOCATION:Corner of Bonita and D Streets - Old Town La Verne
UID:e.1883.1775
SEQUENCE:3
DTSTAMP:20260421T175210Z
URL:https://business.lavernechamber.org/events/details/la-verne-on-tap-old-town-beer-walk-1775
END:VEVENT

END:VCALENDAR
