BEGIN:VCALENDAR
VERSION:2.0
PRODID:-//ChamberMaster//Event Calendar 2.0//EN
METHOD:PUBLISH
X-PUBLISHED-TTL:P3D
REFRESH-INTERVAL:P3D
CALSCALE:GREGORIAN
BEGIN:VEVENT
DTSTART:20181027T170000Z
DTEND:20181027T210000Z
X-MICROSOFT-CDO-ALLDAYEVENT:FALSE
SUMMARY:La Verne Police Department DEA Drug Takeback
DESCRIPTION:The National Prescription Drug Take Back Day aims to provide a safe\, convenient\, and responsible means of disposing of prescription drugs\, while also educating the general public about the potential for abuse of medications.
X-ALT-DESC;FMTTYPE=text/html:<span style="color: rgb(29\, 33\, 41)\; font-family: Helvetica\, Arial\, sans-serif\; font-size: 14px\;">The National Prescription Drug Take Back Day aims to provide a safe\, convenient\, and responsible means of disposing of prescription drugs\, while also educating the general public about the potential for abuse of medications.</span>
LOCATION:La Verne Police Department 2061 3rd Street
UID:e.1883.1203
SEQUENCE:3
DTSTAMP:20260422T103912Z
URL:https://business.lavernechamber.org/events/details/la-verne-police-department-dea-drug-takeback-1203
END:VEVENT

END:VCALENDAR
