BEGIN:VCALENDAR
VERSION:2.0
PRODID:-//ChamberMaster//Event Calendar 2.0//EN
METHOD:PUBLISH
X-PUBLISHED-TTL:P3D
REFRESH-INTERVAL:P3D
CALSCALE:GREGORIAN
BEGIN:VEVENT
DTSTART:20190806T233000Z
DTEND:20190807T023000Z
X-MICROSOFT-CDO-ALLDAYEVENT:FALSE
SUMMARY:La Verne Police Department's National Night Out
DESCRIPTION:Fun!  Food! For the Whole Family!!\n\nNational Night Out enhances the relationship between neighbors and law enforcement while bringing back a true sense of community.\n\nActivities include:\n\n	Free Kid's Face Painting\n	Free Kid's Fingerprinting\n	Police Vehicles\n	FSET\n	Live Music\n	DJ\n	Games\n	Community\n\nHelp us "Stuff a Squad Car" with school supplies for local kiids in need.
X-ALT-DESC;FMTTYPE=text/html:<span style="color: rgb(27\, 36\, 40)\; font-family: FFMarkWebProRegular\; font-size: 16px\;">Fun!&nbsp\; Food! For the Whole Family!!<br />\nNational Night Out enhances the relationship between neighbors and law enforcement while bringing back a true sense of community.</span><br />\nActivities include:\n<ul>\n	<li>Free Kid&#39\;s Face Painting</li>\n	<li>Free Kid&#39\;s Fingerprinting</li>\n	<li>Police Vehicles</li>\n	<li>FSET</li>\n	<li>Live Music</li>\n	<li>DJ</li>\n	<li>Games</li>\n	<li>Community</li>\n</ul>\nHelp us &quot\;Stuff a Squad Car&quot\; with school supplies for local kiids in need.
LOCATION:La Flores Park
UID:e.1883.1492
SEQUENCE:3
DTSTAMP:20260421T191107Z
URL:https://business.lavernechamber.org/events/details/la-verne-police-department-s-national-night-out-1492
END:VEVENT

END:VCALENDAR
