BEGIN:VCALENDAR
VERSION:2.0
PRODID:-//ChamberMaster//Event Calendar 2.0//EN
METHOD:PUBLISH
X-PUBLISHED-TTL:P3D
REFRESH-INTERVAL:P3D
CALSCALE:GREGORIAN
BEGIN:VEVENT
DTSTART:20150526T183000Z
DTEND:20150526T200000Z
X-MICROSOFT-CDO-ALLDAYEVENT:FALSE
SUMMARY:La Verne Power Hour
DESCRIPTION:Chamber Power Hour hosted by Atlas Spinal Care and held at La Verne Community Center
X-ALT-DESC;FMTTYPE=text/html:Chamber Power Hour hosted by Atlas Spinal Care and held at La Verne Community Center
LOCATION:La Verne Community Center (behind City Hall 3660 D Street)
UID:e.1883.99
SEQUENCE:3
DTSTAMP:20260425T021655Z
URL:https://business.lavernechamber.org/events/details/la-verne-power-hour-05-26-2015-99
END:VEVENT

END:VCALENDAR
