BEGIN:VCALENDAR
VERSION:2.0
PRODID:-//ChamberMaster//Event Calendar 2.0//EN
METHOD:PUBLISH
X-PUBLISHED-TTL:P3D
REFRESH-INTERVAL:P3D
CALSCALE:GREGORIAN
BEGIN:VEVENT
DTSTART:20190606T153000Z
DTEND:20190606T193000Z
X-MICROSOFT-CDO-ALLDAYEVENT:FALSE
SUMMARY:La Verne Small Business Tax Seminar
DESCRIPTION:Small Business Seminars (SBS) are half day one-stop shop seminars that bring subject experts from California tax agencies. Business owners can learn about tax issues and get their questions answered on compliance with California tax laws and regulations.
X-ALT-DESC;FMTTYPE=text/html:<span style="background-color:rgb(250\, 252\, 250)\; font-family:source sans pro\,sans-serif\; font-size:17.28px">Small Business Seminars (SBS) are half day one-stop shop seminars that bring subject experts from California tax agencies. Business owners can learn about tax issues and get their questions answered on compliance with California tax laws and regulations.</span>
LOCATION:University of La Verne Campus Center\, 3rd Floor
UID:e.1883.1370
SEQUENCE:3
DTSTAMP:20260421T204723Z
URL:https://business.lavernechamber.org/events/details/la-verne-small-business-tax-seminar-1370
END:VEVENT

END:VCALENDAR
