BEGIN:VCALENDAR
VERSION:2.0
PRODID:-//ChamberMaster//Event Calendar 2.0//EN
METHOD:PUBLISH
X-PUBLISHED-TTL:P3D
REFRESH-INTERVAL:P3D
CALSCALE:GREGORIAN
BEGIN:VEVENT
DTSTART:20171104T190000Z
DTEND:20171105T000000Z
X-MICROSOFT-CDO-ALLDAYEVENT:FALSE
SUMMARY:Lagunitas Beer Circus
DESCRIPTION:2 stages of entertainment! With 100+ performers providing freaktacular entertainment including\; All Star bands and once in a lifetime collaborations of national and local acts! Plus burlesque\, side show acts\, aerialists and other things that cannot be un-seen!\n	COSTUME CONTEST with prizes!\n	Midway games and prizes!! Face painters!\n	"Sue-Va-Neer" schwag item!\n	Unique one of a kind beers from Lagunitas!\n	First pour of delicious libations from Lagunitas Brewing Company!\n	Access to food trucks galore and a few guest breweries from around town!\n	Additional Beers will be available for sale onsite with 100% of the proceeds benefiting The Learning Centers at Fairplex!\n\n\nSTRICTLY 21 and older: No exceptions\, no babies in arms\, no pets \n\nPublic transportation highly encouraged!!\n\nNo designated driver tickets available.\n\nNo large bags\, all bags are subject to search.\n\nTickets are non-refundable.\n\nPlease NO pets\, weapons\, outside alcohol\, illegal drugs and/or things that will ruin the vibe. Word.\n\n\n\n \n\n\n\n\nTHIS IS YOUR CHANCE TO RUN OFF AND JOIN THE CIRCUS\, SHOW UP IN YOUR BEST COSTUMES!!!
X-ALT-DESC;FMTTYPE=text/html:<ul benton="" font-size:="" helvetica="" letter-spacing:="" style="margin: 0px\; padding-top: 10px\; padding-right: 0px\; padding-left: 2em\; list-style-position: initial\; list-style-image: initial\; color: rgb(102\, 106\, 115)\; font-family: ">\n	<li style="margin: 0px\; padding: 0px\;">2 stages of entertainment! With 100+ performers providing freaktacular entertainment including\; All Star bands and once in a lifetime collaborations of national and local acts! Plus burlesque\, side show acts\, aerialists and other things that cannot be un-seen!</li>\n	<li style="margin: 0px\; padding: 5px 0px 0px\;"><span style="padding-top: 0px\;">COSTUME CONTEST with prizes!</span></li>\n	<li style="margin: 0px\; padding: 5px 0px 0px\;">Midway games and prizes!! Face painters!</li>\n	<li style="margin: 0px\; padding: 5px 0px 0px\;">&quot\;Sue-Va-Neer&quot\; schwag item!</li>\n	<li style="margin: 0px\; padding: 5px 0px 0px\;">Unique one of a kind beers from Lagunitas!</li>\n	<li style="margin: 0px\; padding: 5px 0px 0px\;"><span style="padding-top: 0px\;">First pour of delicious libations from Lagunitas Brewing Company!</span></li>\n	<li style="margin: 0px\; padding: 5px 0px 0px\;"><span style="padding-top: 0px\;">Access to food trucks galore and a few guest breweries from around town!</span></li>\n	<li style="margin: 0px\; padding: 5px 0px 0px\;">Additional Beers will be available for sale onsite with 100% of the proceeds benefiting The Learning Centers at Fairplex!</li>\n</ul>\n\n<div style="margin: 0px\; padding: 5px 0px 0px\;"><em style="padding-top:0px\;">STRICTLY 21 and older:&nbsp\;</em><em>No exceptions\, no babies in arms\, no pets&hellip\;</em><br />\n<em style="padding-top:0px\;">Public transportation highly encouraged!!</em><br />\n<em style="padding-top:0px\;">No designated driver tickets available.</em><br />\n<em style="padding-top:0px\;">No large bags\, all bags are subject to search.</em><br />\n<em style="padding-top:0px\;">Tickets are non-refundable.</em><br />\n<em style="padding-top:0px\;">Please NO pets\, weapons\, outside alcohol\, illegal drugs and/or things that will ruin the vibe. Word.</em><br />\n<br style="padding-top:0px\;" />\n&nbsp\;\n<hr style="height:0px\;box-sizing:content-box\;color:rgb(102\, 106\, 115)\;font-family:Benton Sans\, -apple-system\, BlinkMacSystemFont\, Roboto\, Helvetica Neue\, Helvetica\, Tahoma\, Arial\, sans-serif\;font-size:15px\;letter-spacing:0.5px\;" /><br style="padding-top:0px\;" />\n<br />\n<em style="padding-top:0px\;">THIS IS YOUR CHANCE TO RUN OFF AND JOIN THE CIRCUS\, SHOW UP IN YOUR BEST COSTUMES!!!</em><br />\n&nbsp\;</div>\n
LOCATION:Fairplex Exposition Complex\, Gate 9 2118 N White Ave\, Pomona
UID:e.1883.418
SEQUENCE:3
DTSTAMP:20260423T014650Z
URL:https://business.lavernechamber.org/events/details/lagunitas-beer-circus-418
END:VEVENT

END:VCALENDAR
