BEGIN:VCALENDAR
VERSION:2.0
PRODID:-//ChamberMaster//Event Calendar 2.0//EN
METHOD:PUBLISH
X-PUBLISHED-TTL:P3D
REFRESH-INTERVAL:P3D
CALSCALE:GREGORIAN
BEGIN:VEVENT
DTSTART:20140718T000000Z
DTEND:20140718T040000Z
X-MICROSOFT-CDO-ALLDAYEVENT:FALSE
SUMMARY:Largest Mixer - Los Angeles
DESCRIPTION:The Largest and Longest running networking event
X-ALT-DESC;FMTTYPE=text/html:The Largest and Longest running networking event
LOCATION:LA Shrine Auditorium\, 700 W 32nd St\, Los Angeles
UID:e.1883.50
SEQUENCE:3
DTSTAMP:20260425T174332Z
URL:https://business.lavernechamber.org/events/details/largest-mixer-los-angeles-07-17-2014-50
END:VEVENT

END:VCALENDAR
