BEGIN:VCALENDAR
VERSION:2.0
PRODID:-//ChamberMaster//Event Calendar 2.0//EN
METHOD:PUBLISH
X-PUBLISHED-TTL:P3D
REFRESH-INTERVAL:P3D
CALSCALE:GREGORIAN
BEGIN:VEVENT
DTSTART:20201022T160000Z
DTEND:20201023T000000Z
X-MICROSOFT-CDO-ALLDAYEVENT:FALSE
SUMMARY:'Learn How to Get County Contracts' Webinar
DESCRIPTION:Los Angeles County Internal Services Dept. presents 'Contract Connections Empowering Technology. 9-10 am: ISD IT Purchasing Opportunities\; 10:30-11:30 am: ISD IT Contracting Opportunities\; 1-2 pm: County Preference Program Certification\; 2:30-3:30 pm: OneLA - Building Businesses to Win Contracts\; 4-5 pm: Public Works IT Contracting Opportunities
X-ALT-DESC;FMTTYPE=text/html:Los Angeles County Internal Services Dept. presents &#39\;Contract Connections Empowering Technology. 9-10 am: ISD IT Purchasing Opportunities\; 10:30-11:30 am: ISD IT Contracting Opportunities\; 1-2 pm: County Preference Program Certification\; 2:30-3:30 pm: OneLA - Building Businesses to Win Contracts\; 4-5 pm: Public Works IT Contracting Opportunities
LOCATION:On line. Click here to register.
UID:e.1883.3344
SEQUENCE:3
DTSTAMP:20260422T045819Z
URL:https://business.lavernechamber.org/events/details/learn-how-to-get-county-contracts-webinar-3344
END:VEVENT

END:VCALENDAR
