BEGIN:VCALENDAR
VERSION:2.0
PRODID:-//ChamberMaster//Event Calendar 2.0//EN
METHOD:PUBLISH
X-PUBLISHED-TTL:P3D
REFRESH-INTERVAL:P3D
CALSCALE:GREGORIAN
BEGIN:VEVENT
DTSTART:20170914T163000Z
DTEND:20170914T183000Z
X-MICROSOFT-CDO-ALLDAYEVENT:FALSE
SUMMARY:Legal Basics for New Businesses
DESCRIPTION:Why should you incorporate?\n	How should you structure your business?\n	How do you bring on partners?\n	What other things should you think about as your business gets off the ground?
X-ALT-DESC;FMTTYPE=text/html:<ul>\n	<li>Why should you incorporate?</li>\n	<li>How should you structure your business?</li>\n	<li>How do you bring on partners?</li>\n	<li>What other things should you think about as your business gets off the ground?</li>\n</ul>\n
LOCATION:University of La Verne Campus Center 3rd Floor 2000 2nd Street La Verne\, Ca 91750
UID:e.1883.198
SEQUENCE:3
DTSTAMP:20260423T062720Z
URL:https://business.lavernechamber.org/events/details/legal-basics-for-new-businesses-198
END:VEVENT

END:VCALENDAR
