BEGIN:VCALENDAR
VERSION:2.0
PRODID:-//ChamberMaster//Event Calendar 2.0//EN
METHOD:PUBLISH
X-PUBLISHED-TTL:P3D
REFRESH-INTERVAL:P3D
CALSCALE:GREGORIAN
BEGIN:VEVENT
DTSTART:20171113T190000Z
DTEND:20171113T210000Z
X-MICROSOFT-CDO-ALLDAYEVENT:FALSE
SUMMARY:LeoVision Info Session
DESCRIPTION:We cordially invite our community local businesses to join us for an information session. We are a group of University of La Verne students managing a university project called Leovision and digital signage for the local business community. The project mission\, is to advance customer interaction through digital signage. The project is supported by the Intel Corporation and the Digital Signage Federation. Please join us and learn more about how digital signage can benefit your business.
X-ALT-DESC;FMTTYPE=text/html:<span style="color: rgb(102\, 106\, 115)\; font-family: &quot\;Benton Sans&quot\;\, -apple-system\, BlinkMacSystemFont\, Roboto\, &quot\;Helvetica Neue&quot\;\, Helvetica\, Tahoma\, Arial\, sans-serif\; font-size: 15px\; letter-spacing: 0.5px\;">We cordially invite our community local businesses to join us for an information session. We are a group of University of La Verne students managing a university project called Leovision and digital signage for the local business community. The project mission\, is to advance customer interaction through digital signage. The project is supported by the Intel Corporation and the Digital Signage Federation. Please join us and learn more about how digital signage can benefit your business.</span>
LOCATION:University of La Verne\, Campus Center 2000 2nd St.
UID:e.1883.372
SEQUENCE:3
DTSTAMP:20260423T014610Z
URL:https://business.lavernechamber.org/events/details/leovision-info-session-372
END:VEVENT

END:VCALENDAR
