BEGIN:VCALENDAR
VERSION:2.0
PRODID:-//ChamberMaster//Event Calendar 2.0//EN
METHOD:PUBLISH
X-PUBLISHED-TTL:P3D
REFRESH-INTERVAL:P3D
CALSCALE:GREGORIAN
BEGIN:VEVENT
DTSTART:20190720T160000Z
DTEND:20190720T220000Z
X-MICROSOFT-CDO-ALLDAYEVENT:FALSE
SUMMARY:Local Household Hazardous Waste Event
DESCRIPTION:Please collect your hazardous waste (pesticides\, old batteries\, used automotive fluids\, used cleaning products\, etc.) and electronic waste products (computers\, old televisions\, and broken cell phones) for a FREE collection event in Glendora on July 20th from 9:00 AM   3:00 PM at the Citrus College Stadium Parking Lot on Barranca Avenue just north of Alosta. All LA County residents are welcome to participate. If you can't make it to this event\, there is a roundup nearly every weekend in LA County. The entire schedule and more details are posted at www.888cleanla.com
X-ALT-DESC;FMTTYPE=text/html:Please collect your hazardous waste (pesticides\, old batteries\, used automotive fluids\, used cleaning products\, etc.) and electronic waste products (computers\, old televisions\, and broken cell phones) for a FREE collection event in Glendora on July 20th from 9:00 AM &ndash\; 3:00 PM at the Citrus College Stadium Parking Lot on Barranca Avenue just north of Alosta. All LA County residents are welcome to participate. If you can&rsquo\;t make it to this event\, there is a roundup nearly every weekend in LA County. The entire schedule and more details are posted at www.888cleanla.com
LOCATION:Citrus College Stadium Parking Lot
UID:e.1883.1476
SEQUENCE:3
DTSTAMP:20260421T190822Z
URL:https://business.lavernechamber.org/events/details/local-household-hazardous-waste-event-1476
END:VEVENT

END:VCALENDAR
