BEGIN:VCALENDAR
VERSION:2.0
PRODID:-//ChamberMaster//Event Calendar 2.0//EN
METHOD:PUBLISH
X-PUBLISHED-TTL:P3D
REFRESH-INTERVAL:P3D
CALSCALE:GREGORIAN
BEGIN:VEVENT
DTSTART:20180623T180000Z
DTEND:20180624T050000Z
X-MICROSOFT-CDO-ALLDAYEVENT:FALSE
SUMMARY:Lordsburg TapHouse & Grill 5 Year Anniversary
DESCRIPTION:Lordsburg is turning 5 and we would like to invite you Saturday June 23rd Starting at 11 am to celebrate with us during LA Beer Week! We will have an amazing tap list with a bunch of super Limited and Rare Beers! We will have great Food Specials\, Free Raffles with Big Prizes and Live Music! Let us know what you think about our beer list CHEERS! (ALL BEERS WILL BE ON TAP AT THE SAME TIME)
X-ALT-DESC;FMTTYPE=text/html:<span style="color: rgb(102\, 102\, 102)\; font-family: Helvetica\, Arial\, sans-serif\; font-size: 12px\;">Lordsburg is turning 5 and we would like to invite you Saturday June 23rd Starting at 11 am to celebrate with us during LA Beer Week! We will have an amazing tap list with a bunch of super Limited and Rare Beers! We will have great Food Specials\, Free Raffles with Big Prizes and Live Music! Let us know what you think about our beer list CHEERS! (ALL BEERS WILL BE ON TAP AT THE SAME TIME)</span>
LOCATION:Lordsburg TapHouse & Grill 2335 D Street
UID:e.1883.693
SEQUENCE:3
DTSTAMP:20260422T153101Z
URL:https://business.lavernechamber.org/events/details/lordsburg-taphouse-grill-5-year-anniversary-693
END:VEVENT

END:VCALENDAR
