BEGIN:VCALENDAR
VERSION:2.0
PRODID:-//ChamberMaster//Event Calendar 2.0//EN
METHOD:PUBLISH
X-PUBLISHED-TTL:P3D
REFRESH-INTERVAL:P3D
CALSCALE:GREGORIAN
BEGIN:VEVENT
DTSTART:20180503T153000Z
DTEND:20180503T190000Z
X-MICROSOFT-CDO-ALLDAYEVENT:FALSE
SUMMARY:Los Angeles County Contracting Centers
DESCRIPTION:In honor of National Small Business Week we proudly invite you to our L.A. County Contracting Connections event!\n\n\n\nJoin us as we launch our new:\n\nContracting Centers that will help your business get contract ready. Take advantage of this special event to:\n\n  Compete for County contracts\n\n  Get on-the-spot certification and verification\n\n  Network with exhibitors\n\n  Hear from our panel of experts to learn more about our new Contracting Centers
X-ALT-DESC;FMTTYPE=text/html:<p>In honor of National Small Business Week we proudly invite you to our L.A. County Contracting Connections event!<br />\n<br />\n<strong>Join us as we launch our new:</strong></p>\n\n<p>Contracting Centers that will help your business get contract ready. Take advantage of this special event to:</p>\n\n<p>&bull\; Compete for County contracts</p>\n\n<p>&bull\; Get on-the-spot certification and verification</p>\n\n<p>&bull\; Network with exhibitors</p>\n\n<p>&bull\; Hear from our panel of experts to learn more about our new Contracting Centers</p>\n
LOCATION:801 E. Carson St. Carson\, CA 90745
UID:e.1883.659
SEQUENCE:3
DTSTAMP:20260422T180647Z
URL:https://business.lavernechamber.org/events/details/los-angeles-county-contracting-centers-659
END:VEVENT

END:VCALENDAR
