BEGIN:VCALENDAR
VERSION:2.0
PRODID:-//ChamberMaster//Event Calendar 2.0//EN
METHOD:PUBLISH
X-PUBLISHED-TTL:P3D
REFRESH-INTERVAL:P3D
CALSCALE:GREGORIAN
BEGIN:VEVENT
DTSTART:20180131T200000Z
DTEND:20180131T220000Z
X-MICROSOFT-CDO-ALLDAYEVENT:FALSE
SUMMARY:Lunch & Learn Discussion Series on Healthcare Reform: What does it mean for your small business?
DESCRIPTION:On Wednesday January 31\, 12:00-2:00 the University of La Verne will host a film screening and discussion of the film "Fix It Healthcare at the tipping Point. The film was two years in the making\, with more than forty voices advocating for reform\, including: activists\, health policy experts\, economists\, physicians\, nurses\, patients\, business and labor leaders.\n\n \n\nThere will be a panel discussion following the screening featuring expert panelists  Dan Geiger\, Co-Director\, Business Alliance for a Healthy California and Deborah Freund\, MA\, MPH\, PhD\, Claremont Graduate University\, School of Social Science\, Policy & Evaluation\, Professor of Economic Sciences.\n\n \n\nA boxed lunch will be provided to registered attendees.
X-ALT-DESC;FMTTYPE=text/html:<span style="color:black\;"><span style="font-family:arial\,sans-serif\;"><span style="font-size:10.0pt\;">On Wednesday January 31\, 12:00-2:00 the University of La Verne will host a film screening and discussion of the film &quot\;Fix It Healthcare at the tipping Point.&nbsp\;The film was two years in the making\, with more than forty voices advocating for reform\, including: activists\, health policy experts\, economists\, physicians\, nurses\, patients\, business and labor leaders.</span></span></span><br />\n&nbsp\;<br />\n<span style="color:black\;"><span style="font-family:arial\,sans-serif\;"><span style="font-size:10.0pt\;">There will be a panel discussion following the screening featuring expert panelists&nbsp\; Dan Geiger\, Co-Director\, Business Alliance for a Healthy California and&nbsp\;Deborah Freund\,&nbsp\;MA\, MPH\, PhD\, Claremont Graduate University\, School of Social Science\, Policy &amp\; Evaluation\, Professor of Economic Sciences.</span></span></span><br />\n&nbsp\;<br />\n<span style="color:black\;"><span style="font-family:arial\,sans-serif\;"><span style="font-size:10.0pt\;">A boxed lunch will be provided to registered attendees.</span></span></span>
LOCATION:University of La Verne Campus Center\, 3rd Floor\, Ballroom A 1950 Third Street
UID:e.1883.517
SEQUENCE:3
DTSTAMP:20260422T230223Z
URL:https://business.lavernechamber.org/events/details/lunch-learn-discussion-series-on-healthcare-reform-what-does-it-mean-for-your-small-business-517
END:VEVENT

END:VCALENDAR
