BEGIN:VCALENDAR
VERSION:2.0
PRODID:-//ChamberMaster//Event Calendar 2.0//EN
METHOD:PUBLISH
X-PUBLISHED-TTL:P3D
REFRESH-INTERVAL:P3D
CALSCALE:GREGORIAN
BEGIN:VEVENT
DTSTART:20190402T003000Z
DTEND:20190402T023000Z
X-MICROSOFT-CDO-ALLDAYEVENT:FALSE
SUMMARY:McKinley Ambassadors Kick-Off Meeting
DESCRIPTION:JOIN THE NEW MCKINLEY AMBASSADORS\n\n\n\nCome see how you can make a difference in the lives of children in-need by attending our kick-off meeting. \n\nUse your professional skills to make a difference while working alongside and networking with like-minded individuals.\n\nDinner will be provided.
X-ALT-DESC;FMTTYPE=text/html:<span style="color: rgb(29\, 33\, 41)\; font-family: Helvetica\, Arial\, sans-serif\; font-size: 14px\; white-space: pre-wrap\;">JOIN THE NEW MCKINLEY AMBASSADORS</span><br style="color: rgb(29\, 33\, 41)\; font-family: Helvetica\, Arial\, sans-serif\; font-size: 14px\; white-space: pre-wrap\;" />\n<br style="color: rgb(29\, 33\, 41)\; font-family: Helvetica\, Arial\, sans-serif\; font-size: 14px\; white-space: pre-wrap\;" />\n<span style="color: rgb(29\, 33\, 41)\; font-family: Helvetica\, Arial\, sans-serif\; font-size: 14px\; white-space: pre-wrap\;">Come see how you can make a difference in the lives of children in-need by attending our kick-off meeting. </span><br />\n<span style="color: rgb(29\, 33\, 41)\; font-family: Helvetica\, Arial\, sans-serif\; font-size: 14px\; white-space: pre-wrap\;">Use your professional skills to make a difference while working alongside and networking with like-minded individuals.<br />\nDinner will be provided. </span>
LOCATION:McKinley Children's Center - Greene Auditorium 762 W. Cypress St.\, San Dimas
UID:e.1883.1345
SEQUENCE:3
DTSTAMP:20260421T235116Z
URL:https://business.lavernechamber.org/events/details/mckinley-ambassadors-kick-off-meeting-1345
END:VEVENT

END:VCALENDAR
