BEGIN:VCALENDAR
VERSION:2.0
PRODID:-//ChamberMaster//Event Calendar 2.0//EN
METHOD:PUBLISH
X-PUBLISHED-TTL:P3D
REFRESH-INTERVAL:P3D
CALSCALE:GREGORIAN
BEGIN:VEVENT
DTSTART:20180627T003000Z
DTEND:20180627T020000Z
X-MICROSOFT-CDO-ALLDAYEVENT:FALSE
SUMMARY:Member Appreciation Reception
DESCRIPTION:The La Verne Chamber of Commerce\n\nCordially invites you to join us\n\nFor an Evening of Networking & Celebration!\n\n\n\n2018-2019 Board of Directors Installation\n\nAnnual Membership Meeting\n\nCelebrating Chamber Member Milestone Anniversaries\n\n\n\nHosted appetizers and wine
X-ALT-DESC;FMTTYPE=text/html:<span style="background:#F9F9F9\;"><span style="font-family:clarendon lt bt\,serif\;"><span style="font-size:10.5pt\;">The La Verne Chamber of Commerce</span></span></span><br />\n<span style="font-family:clarendon lt bt\,serif\;">Cordially invites you to join us</span><br />\n<span style="font-family:clarendon lt bt\,serif\;">For an Evening of Networking &amp\; Celebration!<br />\n<br />\n2018-2019 Board of Directors Installation<br />\nAnnual Membership Meeting</span><br />\nCelebrating Chamber Member Milestone Anniversaries<br />\n<br />\n<span style="font-family:clarendon lt bt\,serif\;"><span style="font-size:11.0pt\;">Hosted appetizers and wine</span></span>
LOCATION:Chase's 2079 Bonita Ave.
UID:e.1883.675
SEQUENCE:3
DTSTAMP:20260422T151323Z
URL:https://business.lavernechamber.org/events/details/member-appreciation-reception-675
END:VEVENT

END:VCALENDAR
