BEGIN:VCALENDAR
VERSION:2.0
PRODID:-//ChamberMaster//Event Calendar 2.0//EN
METHOD:PUBLISH
X-PUBLISHED-TTL:P3D
REFRESH-INTERVAL:P3D
CALSCALE:GREGORIAN
BEGIN:VEVENT
DTSTART:20141018T190000Z
DTEND:20141018T210000Z
X-MICROSOFT-CDO-ALLDAYEVENT:FALSE
SUMMARY:MikNao Dance Studio Grand Opening!
DESCRIPTION:We are having our Grand Opening Dance Recital on Saturday\, October 18th at 12noon at the La Verne Community Center in the Main Hall. We would like to extend an inventation to all of the surrounding businesses so that you can come and enjoy the show that our students have worked so hard for!
X-ALT-DESC;FMTTYPE=text/html:We are having our Grand Opening Dance Recital on Saturday\, October 18th at 12noon at the La Verne Community Center in the Main Hall. We would like to extend an inventation to all of the surrounding businesses so that you can come and enjoy the show that our students have worked so hard for!
LOCATION:La Verne Community Center\, Main Hall
UID:e.1883.65
SEQUENCE:3
DTSTAMP:20260425T130122Z
URL:https://business.lavernechamber.org/events/details/miknao-dance-studio-grand-opening-10-18-2014-65
END:VEVENT

END:VCALENDAR
