BEGIN:VCALENDAR
VERSION:2.0
PRODID:-//ChamberMaster//Event Calendar 2.0//EN
METHOD:PUBLISH
X-PUBLISHED-TTL:P3D
REFRESH-INTERVAL:P3D
CALSCALE:GREGORIAN
BEGIN:VEVENT
DTSTART:20190722T013000Z
DTEND:20190722T043000Z
X-MICROSOFT-CDO-ALLDAYEVENT:FALSE
SUMMARY:Movie in the Park hosted by the La Verne Police Department
DESCRIPTION:The La Verne Police Officer's Association and the City of La Verne present The Incredibles 2! Join us for Movie in the Park\, this Sunday\, July 21\, 2019. We will be collecting school supplies for our annual Stuff a Squad Car program from 6:30pm - 8:00pm.
X-ALT-DESC;FMTTYPE=text/html:<span style="color: rgb(29\, 33\, 41)\; font-family: Helvetica\, Arial\, sans-serif\; font-size: 14px\; white-space: pre-wrap\;">The La Verne Police Officer&#39\;s Association and the City of La Verne present The Incredibles 2! Join us for Movie in the Park\, this Sunday\, July 21\, 2019. We will be collecting school supplies for our annual Stuff a Squad Car program from 6:30pm - 8:00pm.</span>
LOCATION:Heritage Park
UID:e.1883.1486
SEQUENCE:3
DTSTAMP:20260421T191112Z
URL:https://business.lavernechamber.org/events/details/movie-in-the-park-hosted-by-the-la-verne-police-department-1486
END:VEVENT

END:VCALENDAR
