BEGIN:VCALENDAR
VERSION:2.0
PRODID:-//ChamberMaster//Event Calendar 2.0//EN
METHOD:PUBLISH
X-PUBLISHED-TTL:P3D
REFRESH-INTERVAL:P3D
CALSCALE:GREGORIAN
BEGIN:VEVENT
DTSTART:20190805T013000Z
DTEND:20190805T043000Z
X-MICROSOFT-CDO-ALLDAYEVENT:FALSE
SUMMARY:Movie in the Park hosted by the La Verne Police Department
DESCRIPTION:The La Verne Police Officer's Association and the City of La Verne present The Incredibles 2! Join us for Movie in the Park\, Sunday\, August 4 2019. We will be collecting school supplies for our annual Stuff a Squad Car program from 6:30pm - 8:00pm.\n\n\n\n  Hot dogs\, nachos\, candy\, popcorn and drinks at 6:30pm\n\n\n\n  Movie: Spiderman into the Spider-Verse at 8:00pm\n\n\n\n  Stuff a Squad Car school supply donation 6:30pm - 8:00pm\n\n\n\n  #pinkpatchproject merchandise available 6:30pm - 8:00pm
X-ALT-DESC;FMTTYPE=text/html:<span style="color: rgb(29\, 33\, 41)\; font-family: Helvetica\, Arial\, sans-serif\; font-size: 14px\; white-space: pre-wrap\;">The La Verne Police Officer&#39\;s Association and the City of La Verne present The Incredibles 2! Join us for Movie in the Park\, Sunday\, August 4 2019. We will be collecting school supplies for our annual Stuff a Squad Car program from 6:30pm - 8:00pm.<br />\n<br />\n&#127789\; Hot dogs\, nachos\, candy\, popcorn and drinks at 6:30pm</span><br style="color: rgb(29\, 33\, 41)\; font-family: Helvetica\, Arial\, sans-serif\; font-size: 14px\; white-space: pre-wrap\;" />\n<br style="color: rgb(29\, 33\, 41)\; font-family: Helvetica\, Arial\, sans-serif\; font-size: 14px\; white-space: pre-wrap\;" />\n<span style="color: rgb(29\, 33\, 41)\; font-family: Helvetica\, Arial\, sans-serif\; font-size: 14px\; white-space: pre-wrap\;">&#127916\; Movie: Spiderman into the Spider-Verse at 8:00pm</span><br style="color: rgb(29\, 33\, 41)\; font-family: Helvetica\, Arial\, sans-serif\; font-size: 14px\; white-space: pre-wrap\;" />\n<br style="color: rgb(29\, 33\, 41)\; font-family: Helvetica\, Arial\, sans-serif\; font-size: 14px\; white-space: pre-wrap\;" />\n<span style="color: rgb(29\, 33\, 41)\; font-family: Helvetica\, Arial\, sans-serif\; font-size: 14px\; white-space: pre-wrap\;">&#128659\; Stuff a Squad Car school supply donation 6:30pm - 8:00pm</span><br style="color: rgb(29\, 33\, 41)\; font-family: Helvetica\, Arial\, sans-serif\; font-size: 14px\; white-space: pre-wrap\;" />\n<br style="color: rgb(29\, 33\, 41)\; font-family: Helvetica\, Arial\, sans-serif\; font-size: 14px\; white-space: pre-wrap\;" />\n<span style="color: rgb(29\, 33\, 41)\; font-family: Helvetica\, Arial\, sans-serif\; font-size: 14px\; white-space: pre-wrap\;">&#127872\; </span><a href="https://www.facebook.com/hashtag/pinkpatchproject" style="color: rgb(56\, 88\, 152)\; cursor: pointer\; text-decoration-line: none\; font-family: Helvetica\, Arial\, sans-serif\; font-size: 14px\; white-space: pre-wrap\;" target="_blank">#pinkpatchproject</a><span style="color: rgb(29\, 33\, 41)\; font-family: Helvetica\, Arial\, sans-serif\; font-size: 14px\; white-space: pre-wrap\;"> merchandise available 6:30pm - 8:00pm</span><br />\n&nbsp\;
LOCATION:Heritage Park
UID:e.1883.1501
SEQUENCE:3
DTSTAMP:20260421T191158Z
URL:https://business.lavernechamber.org/events/details/movie-in-the-park-hosted-by-the-la-verne-police-department-1501
END:VEVENT

END:VCALENDAR
