BEGIN:VCALENDAR
VERSION:2.0
PRODID:-//ChamberMaster//Event Calendar 2.0//EN
METHOD:PUBLISH
X-PUBLISHED-TTL:P3D
REFRESH-INTERVAL:P3D
CALSCALE:GREGORIAN
BEGIN:VEVENT
DTSTART:20180723T173000Z
DTEND:20180723T190000Z
X-MICROSOFT-CDO-ALLDAYEVENT:FALSE
SUMMARY:Movie Monday's at the La Verne Library
DESCRIPTION:Come watch the latest Children's feature films for free at the La Verne Library
X-ALT-DESC;FMTTYPE=text/html:Come watch the latest Children&#39\;s feature films for free at the La Verne Library
LOCATION:La Verne Library 3640 D Street
UID:e.1883.717
SEQUENCE:3
DTSTAMP:20260422T133839Z
URL:https://business.lavernechamber.org/events/details/movie-monday-s-at-the-la-verne-library-717
END:VEVENT

END:VCALENDAR
