BEGIN:VCALENDAR
VERSION:2.0
PRODID:-//ChamberMaster//Event Calendar 2.0//EN
METHOD:PUBLISH
X-PUBLISHED-TTL:P3D
REFRESH-INTERVAL:P3D
CALSCALE:GREGORIAN
BEGIN:VEVENT
DTSTART:20140718T003000Z
DTEND:20140718T020000Z
X-MICROSOFT-CDO-ALLDAYEVENT:FALSE
SUMMARY:Multi Chamber Mixer
DESCRIPTION:Multi Chamber Mixer
X-ALT-DESC;FMTTYPE=text/html:Multi Chamber Mixer
LOCATION:Foothill Federal Credit Union\, 928 N Lone Hill\, Glendora\, CA
UID:e.1883.56
SEQUENCE:3
DTSTAMP:20260425T174006Z
URL:https://business.lavernechamber.org/events/details/multi-chamber-mixer-07-17-2014-56
END:VEVENT

END:VCALENDAR
