BEGIN:VCALENDAR
VERSION:2.0
PRODID:-//ChamberMaster//Event Calendar 2.0//EN
METHOD:PUBLISH
X-PUBLISHED-TTL:P3D
REFRESH-INTERVAL:P3D
CALSCALE:GREGORIAN
BEGIN:VEVENT
DTSTART:20140919T003000Z
DTEND:20140919T020000Z
X-MICROSOFT-CDO-ALLDAYEVENT:FALSE
SUMMARY:Multi Chamber Mixer
DESCRIPTION:Multi Chamber Networking Mixer
X-ALT-DESC;FMTTYPE=text/html:Multi Chamber Networking Mixer
LOCATION:San Dimas Community Hospital\, 1350 W Covina Blvd\, San Dimas
UID:e.1883.59
SEQUENCE:3
DTSTAMP:20260425T142959Z
URL:https://business.lavernechamber.org/events/details/multi-chamber-mixer-09-18-2014-59
END:VEVENT

END:VCALENDAR
