BEGIN:VCALENDAR
VERSION:2.0
PRODID:-//ChamberMaster//Event Calendar 2.0//EN
METHOD:PUBLISH
X-PUBLISHED-TTL:P3D
REFRESH-INTERVAL:P3D
CALSCALE:GREGORIAN
BEGIN:VEVENT
DTSTART;VALUE=DATE:20260521
DTEND;VALUE=DATE:20260522
TRANSP:TRANSPARENT
X-MICROSOFT-CDO-ALLDAYEVENT:TRUE
SUMMARY:Multi-Chamber Of Commerce Mixer - A Night in the Far East - May 21st\, 2026
DESCRIPTION:We are delighted to invite you to the Multi-Chamber of Commerce Mixer\, "A Night in the Far East."\n\nThis special evening will also mark the 20-year anniversary of the DoubleTree by Hilton in the wonderful city of Claremont\, CA.\n\nPlease join us on Thursday\, May 21st for a memorable night filled with great food\, drinks\, and entertainment.
X-ALT-DESC;FMTTYPE=text/html:<p style="font-size: 16px\; margin-top: 0px\; margin-bottom: 0px\; caret-color: rgb(33\, 33\, 33)\; color: rgb(33\, 33\, 33)\; font-family: &quot\;Helvetica Neue&quot\;\, Helvetica\, Arial\, sans-serif\;">We are delighted to invite you to the Multi-Chamber of Commerce Mixer\,&nbsp\;<em>&ldquo\;A Night in the Far East.&rdquo\;</em></p>\n\n<p style="font-size: 16px\; margin-top: 0px\; margin-bottom: 0px\; caret-color: rgb(33\, 33\, 33)\; color: rgb(33\, 33\, 33)\; font-family: &quot\;Helvetica Neue&quot\;\, Helvetica\, Arial\, sans-serif\;">This special evening will also mark the 20-year anniversary of the DoubleTree by Hilton in the wonderful city of Claremont\, CA.</p>\n\n<div style="font-size: 16px\; caret-color: rgb(33\, 33\, 33)\; color: rgb(33\, 33\, 33)\; font-family: &quot\;Helvetica Neue&quot\;\, Helvetica\, Arial\, sans-serif\;">Please join us on Thursday\, May 21st for a memorable night filled with great food\, drinks\, and entertainment.</div>\n
LOCATION:
UID:e.1883.5674
SEQUENCE:3
DTSTAMP:20260425T202701Z
URL:https://business.lavernechamber.org/events/details/multi-chamber-of-commerce-mixer-a-night-in-the-far-east-may-21st-2026-5674
END:VEVENT

END:VCALENDAR
