BEGIN:VCALENDAR
VERSION:2.0
PRODID:-//ChamberMaster//Event Calendar 2.0//EN
METHOD:PUBLISH
X-PUBLISHED-TTL:P3D
REFRESH-INTERVAL:P3D
CALSCALE:GREGORIAN
BEGIN:VEVENT
DTSTART:20180808T003000Z
DTEND:20180808T033000Z
X-MICROSOFT-CDO-ALLDAYEVENT:FALSE
SUMMARY:National Night Out
DESCRIPTION:Join the La Verne Police Department on Tuesday\, August 7\, 2018 from 5:30pm to 8:30pm for the 35 annual #NationalNightOut! National Night Out is a nationwide event designed to heighten crime prevention awareness\, generate support for and participation in anti-crime programs and strengthen police-community partnerships.
X-ALT-DESC;FMTTYPE=text/html:<span style="color: rgb(29\, 33\, 41)\; font-family: Helvetica\, Arial\, sans-serif\; font-size: 14px\;">Join the La Verne Police Department on Tuesday\, August 7\, 2018 from 5:30pm to 8:30pm for the 35 annual&nbsp\;</span><a class="_58cn" data-ft="{&quot\;tn&quot\;:&quot\;*N&quot\;\,&quot\;type&quot\;:104}" href="https://www.facebook.com/hashtag/nationalnightout?source=feed_text" style="color: rgb(54\, 88\, 153)\; cursor: pointer\; text-decoration-line: none\; font-family: Helvetica\, Arial\, sans-serif\; font-size: 14px\;"><span class="_5afx" style="direction: ltr\; unicode-bidi: isolate\; font-family: inherit\;"><span aria-label="hashtag" class="_58cl _5afz" style="unicode-bidi: isolate\; font-family: inherit\;">#</span><span class="_58cm" style="font-family: inherit\;">NationalNightOut</span></span></a><span style="color: rgb(29\, 33\, 41)\; font-family: Helvetica\, Arial\, sans-serif\; font-size: 14px\;">! National Night Out is a nationwide event designed to heighten crime prevention awareness\, generate support for and participation in anti-crime programs and strengthen police-community partnerships.</span>
LOCATION:Heritage Park 5001 Via De Mansion
UID:e.1883.726
SEQUENCE:3
DTSTAMP:20260422T120105Z
URL:https://business.lavernechamber.org/events/details/national-night-out-726
END:VEVENT

END:VCALENDAR
