BEGIN:VCALENDAR
VERSION:2.0
PRODID:-//ChamberMaster//Event Calendar 2.0//EN
METHOD:PUBLISH
X-PUBLISHED-TTL:P3D
REFRESH-INTERVAL:P3D
CALSCALE:GREGORIAN
BEGIN:VEVENT
DTSTART:20190427T170000Z
DTEND:20190427T210000Z
X-MICROSOFT-CDO-ALLDAYEVENT:FALSE
SUMMARY:National Prescription Drug Take-Back Day
DESCRIPTION:Saturday\, April 27\, 2019 from 10:00 AM - 2:00 PM is National Prescription Drug Take-Back Day. Bring any unused or expired prescription drugs to the La Verne Police Department\, 2061 Third Street. The last National Take-Back Day brought in more than 900\,000 pounds of unused or expired prescription medication. This brings the total amount of prescription drugs collected by DEA since the fall of 2010 to 10\,878\,950 pounds. Check DEA's official Take Back Day website for more information and to find year-round collection sites near you.
X-ALT-DESC;FMTTYPE=text/html:Saturday\, April 27\, 2019 from 10:00 AM - 2:00 PM is National Prescription Drug Take-Back Day. Bring any unused or expired prescription drugs to the La Verne Police Department\, 2061 Third Street. The last National Take-Back Day brought in more than 900\,000 pounds of unused or expired prescription medication. This brings the total amount of prescription drugs collected by DEA since the fall of 2010 to 10\,878\,950 pounds. Check DEA&#39\;s official Take Back Day website for more information and to find year-round collection sites near you.
LOCATION:La Verne Police Department
UID:e.1883.1357
SEQUENCE:3
DTSTAMP:20260421T235313Z
URL:https://business.lavernechamber.org/events/details/national-prescription-drug-take-back-day-1357
END:VEVENT

END:VCALENDAR
