BEGIN:VCALENDAR
VERSION:2.0
PRODID:-//ChamberMaster//Event Calendar 2.0//EN
METHOD:PUBLISH
X-PUBLISHED-TTL:P3D
REFRESH-INTERVAL:P3D
CALSCALE:GREGORIAN
BEGIN:VEVENT
DTSTART:20181115T013000Z
DTEND:20181115T033000Z
X-MICROSOFT-CDO-ALLDAYEVENT:FALSE
SUMMARY:Networking for a Cause
DESCRIPTION:You're invited to our next professional Networking Mixer on Wed.\, Nov. 14th from 5:30 - 7:30PM at Chase's in La Verne!\n\nLast year we had the honor of donating 50+ toys to Shepherd's Pantry for families in need during the holidays. Help us this year by donating to their canned food drive. Please bring at least one canned food item to the mixer to donate.  \n\n\n\nFollow the link for recommended food donations: https://tinyurl.com/yddbartk\n\nClick here to RSVP on our Facebook page: https://tinyurl.com/ycba8fgj
X-ALT-DESC;FMTTYPE=text/html:<span style="color:#333333\;">You&#39\;re invited to our next professional Networking Mixer on Wed.\, Nov. 14th from 5:30 - 7:30PM at Chase&#39\;s in La Verne!</span><br />\n<span style="color:#1D2129\;">Last year we had the honor of donating 50+ toys to Shepherd&#39\;s Pantry for families in need during the holidays. <strong>Help us this year by donating to their canned food drive</strong>. <strong>Please bring at least one canned food item to the mixer to donate.</strong> </span><span style="color:#1D2129\;"><span style="font-family:segoe ui emoji\,sans-serif\;">&#128522\;</span></span><br />\n<br />\n<span style="color:#1D2129\;">Follow the link for recommended food donations: </span><a href="https://tinyurl.com/yddbartk">https://tinyurl.com/yddbartk</a><br />\n<span style="color:#333333\;">Click here to RSVP on our Facebook page:&nbsp\;<a href="https://tinyurl.com/ycba8fgj">https://tinyurl.com/ycba8fgj</a> </span>
LOCATION:Chase's 2079 Bonita Ave.
UID:e.1883.1241
SEQUENCE:3
DTSTAMP:20260422T073552Z
URL:https://business.lavernechamber.org/events/details/networking-for-a-cause-11-14-2018-1241
END:VEVENT

END:VCALENDAR
