BEGIN:VCALENDAR
VERSION:2.0
PRODID:-//ChamberMaster//Event Calendar 2.0//EN
METHOD:PUBLISH
X-PUBLISHED-TTL:P3D
REFRESH-INTERVAL:P3D
CALSCALE:GREGORIAN
BEGIN:VEVENT
DTSTART:20190301T013000Z
DTEND:20190301T033000Z
X-MICROSOFT-CDO-ALLDAYEVENT:FALSE
SUMMARY:Networking for a Cause
DESCRIPTION:The Mike Hardy & Rick Mount Team of Churchill Mortgage\n\nPlease join us for a night of networking with local business professionals in support of a great organization - David & Margaret Youth and Family Services
X-ALT-DESC;FMTTYPE=text/html:The Mike Hardy &amp\; Rick Mount Team of Churchill Mortgage<br />\n<span style="color: rgb(29\, 33\, 41)\; font-family: Helvetica\, Arial\, sans-serif\; font-size: 14px\; white-space: pre-wrap\;">Please join us for a night of networking with local business professionals in support of a great organization - David &amp\; Margaret Youth and Family Services</span>
LOCATION:Dave & Maggie's Cafe 1351 Palomares Ave
UID:e.1883.1300
SEQUENCE:3
DTSTAMP:20260422T024746Z
URL:https://business.lavernechamber.org/events/details/networking-for-a-cause-1300
END:VEVENT

END:VCALENDAR
