BEGIN:VCALENDAR
VERSION:2.0
PRODID:-//ChamberMaster//Event Calendar 2.0//EN
METHOD:PUBLISH
X-PUBLISHED-TTL:P3D
REFRESH-INTERVAL:P3D
CALSCALE:GREGORIAN
BEGIN:VEVENT
DTSTART:20180727T003000Z
DTEND:20180727T020000Z
X-MICROSOFT-CDO-ALLDAYEVENT:FALSE
SUMMARY:Networking For A Cause!
DESCRIPTION:5:30-7:30 PM at Chase's in La Verne. We will be upstairs in the enclosed patio. Cocktails will be provided by the Mike Hardy & Rick Mount Team of Churchill Mortgage. Come & connect with local professionals in your area!\n\n\n\nThis mixer we will be in support of Our Own Family Camp. Our Own Family Camp is a camp specifically for families with members with Down syndrome. Our Family Camp runs on Labor Day Weekend in Big Bear\, CA\, which offers canoeing\, zip-lining\, archery\, and many more activities!\n\nWe look forward to seeing you there!\n\n\n\nPlease RSVP to this event OR directly to: mikeandrick@churchillmortgage.com
X-ALT-DESC;FMTTYPE=text/html:<span style="color: rgb(29\, 33\, 41)\; font-family: Helvetica\, Arial\, sans-serif\; font-size: 14px\; background-color: rgb(255\, 255\, 255)\;">&nbsp\;5:30-7:30 PM at Chase&#39\;s in La Verne. We will be upstairs in the enclosed patio. Cocktails will be provided by the Mike Hardy &amp\; Rick Mount Team of Churchill Mortgage. Come &amp\; connect with local professionals in your area!<br />\n<br />\nThis mixer we will be in support of Our Own Family Camp. Our Own Family Camp is a camp specifically for families with members with Down syndrome. Our Family Camp runs on Labor Day Weekend in Big Bear\, CA\, which offers canoeing\, zip-lining\, archery\, and many more activities!<br />\nWe look forward to seeing you there!</span><br style="color: rgb(29\, 33\, 41)\; font-family: Helvetica\, Arial\, sans-serif\; font-size: 14px\; background-color: rgb(255\, 255\, 255)\;" />\n<br style="color: rgb(29\, 33\, 41)\; font-family: Helvetica\, Arial\, sans-serif\; font-size: 14px\; background-color: rgb(255\, 255\, 255)\;" />\n<span style="color: rgb(29\, 33\, 41)\; font-family: Helvetica\, Arial\, sans-serif\; font-size: 14px\; background-color: rgb(255\, 255\, 255)\;">Please RSVP to this event OR directly to: mikeandrick@churchillmortgage.com</span>
LOCATION:@ Chase's 2079 Bonita Ave. La Verne\, CA
UID:e.1883.990
SEQUENCE:3
DTSTAMP:20260422T150216Z
URL:https://business.lavernechamber.org/events/details/networking-for-a-cause-990
END:VEVENT

END:VCALENDAR
