BEGIN:VCALENDAR
VERSION:2.0
PRODID:-//ChamberMaster//Event Calendar 2.0//EN
METHOD:PUBLISH
X-PUBLISHED-TTL:P3D
REFRESH-INTERVAL:P3D
CALSCALE:GREGORIAN
BEGIN:VEVENT
DTSTART:20190911T000000Z
DTEND:20190911T010000Z
X-MICROSOFT-CDO-ALLDAYEVENT:FALSE
SUMMARY:New Location Ribbon Cutting
DESCRIPTION:Join us as we celebrate the NEW Location for Foothill Family Chiropractic!
X-ALT-DESC;FMTTYPE=text/html:Join us as we celebrate the NEW Location for Foothill Family Chiropractic!
LOCATION:Foothill Family Chiropractic
UID:e.1883.1749
SEQUENCE:3
DTSTAMP:20260421T161417Z
URL:https://business.lavernechamber.org/events/details/new-location-ribbon-cutting-1749
END:VEVENT

END:VCALENDAR
