BEGIN:VCALENDAR
VERSION:2.0
PRODID:-//ChamberMaster//Event Calendar 2.0//EN
METHOD:PUBLISH
X-PUBLISHED-TTL:P3D
REFRESH-INTERVAL:P3D
CALSCALE:GREGORIAN
BEGIN:VEVENT
DTSTART:20190917T230000Z
DTEND:20190918T000000Z
X-MICROSOFT-CDO-ALLDAYEVENT:FALSE
SUMMARY:New Owners Ribbon Cutting
DESCRIPTION:Join us as we welcome the New Owners at Kumon of La Verne!
X-ALT-DESC;FMTTYPE=text/html:Join us as we welcome the New Owners at Kumon of La Verne!
LOCATION:Kumon of La Verne
UID:e.1883.1726
SEQUENCE:3
DTSTAMP:20260421T161320Z
URL:https://business.lavernechamber.org/events/details/new-owners-ribbon-cutting-1726
END:VEVENT

END:VCALENDAR
