BEGIN:VCALENDAR
VERSION:2.0
PRODID:-//ChamberMaster//Event Calendar 2.0//EN
METHOD:PUBLISH
X-PUBLISHED-TTL:P3D
REFRESH-INTERVAL:P3D
CALSCALE:GREGORIAN
BEGIN:VEVENT
DTSTART:20180114T190000Z
DTEND:20180115T000000Z
X-MICROSOFT-CDO-ALLDAYEVENT:FALSE
SUMMARY:New Year Sales Event
DESCRIPTION:Looking for a new home in La Verne? This is your chance to take advantage of our New Year sales event with solar & $50\,000 in designer upgrades included.
X-ALT-DESC;FMTTYPE=text/html:<span style="color: rgb(75\, 79\, 86)\; font-family: Helvetica\, Arial\, sans-serif\; font-size: 14px\;">Looking for a new home in La Verne? This is your chance to take advantage of our New Year sales event with solar &amp\; $50\,000 in designer upgrades included.</span>
LOCATION:La Verne Emerald 2006 Baseline Road\, La Verne\, California 91750
UID:e.1883.516
SEQUENCE:3
DTSTAMP:20260422T225928Z
URL:https://business.lavernechamber.org/events/details/new-year-sales-event-516
END:VEVENT

END:VCALENDAR
