BEGIN:VCALENDAR
VERSION:2.0
PRODID:-//ChamberMaster//Event Calendar 2.0//EN
METHOD:PUBLISH
X-PUBLISHED-TTL:P3D
REFRESH-INTERVAL:P3D
CALSCALE:GREGORIAN
BEGIN:VEVENT
DTSTART:20141108T180000Z
DTEND:20141108T220000Z
X-MICROSOFT-CDO-ALLDAYEVENT:FALSE
SUMMARY:NHRA Fan Fest
DESCRIPTION:Kick off for the NHRA Races Nov 14 - 16.  The Fan Fest will be held on D Street in DOwntown La Verne.  John Force will be there to sign autographs. There will be race cars there for your viewing and to hear how loud they really are when they start them up.  Free Admittance and parking.
X-ALT-DESC;FMTTYPE=text/html:Kick off for the NHRA Races Nov 14 - 16.&nbsp\; The Fan Fest will be held on D Street in DOwntown La Verne.&nbsp\; John Force will be there to sign autographs. There will be race cars there for your viewing and to hear how loud they really are when they start them up.&nbsp\; Free Admittance and parking.
LOCATION:
UID:e.1883.66
SEQUENCE:3
DTSTAMP:20260425T130155Z
URL:https://business.lavernechamber.org/events/details/nhra-fan-fest-11-08-2014-66
END:VEVENT

END:VCALENDAR
