BEGIN:VCALENDAR
VERSION:2.0
PRODID:-//ChamberMaster//Event Calendar 2.0//EN
METHOD:PUBLISH
X-PUBLISHED-TTL:P3D
REFRESH-INTERVAL:P3D
CALSCALE:GREGORIAN
BEGIN:VEVENT
DTSTART:20171110T010000Z
DTEND:20171110T040000Z
X-MICROSOFT-CDO-ALLDAYEVENT:FALSE
SUMMARY:NHRA Fan Fest
DESCRIPTION:The Fanfest serves as a kickoff to the National Hot Rod Associations' Auto Club World Finals races held from November 9-12 at Auto Club Speedway at Fairplex. The Fanfest\, mostly held at Lordsburg Taphouse and Grill\, in Old Town La Verne\, at D Street and Bonita Avenue\, features a a Funny Car and Top Fuel Dragster\, appearances\, prizes and autograph signing by NHRA drivers
X-ALT-DESC;FMTTYPE=text/html:<span style="color: rgb(69\, 44\, 3)\; font-family: Arimo\, Arial\, &quot\;Arial Unicode MS&quot\;\, Helvetica\, sans-serif\; font-size: 11px\; background-color: rgb(254\, 242\, 221)\;">The Fanfest serves as a kickoff to the National Hot Rod&nbsp\;Associations&rsquo\; Auto Club World Finals races held from November&nbsp\;9-12 at Auto Club Speedway at Fairplex. The Fanfest\, mostly&nbsp\;held at Lordsburg Taphouse and Grill\, in Old Town La Verne\, at&nbsp\;D Street and Bonita Avenue\, features a a Funny Car and Top Fuel&nbsp\;Dragster\, appearances\, prizes and autograph signing by NHRA&nbsp\;drivers</span>
LOCATION:Lordsburg Taphouse & Grill 2335 D Street
UID:e.1883.422
SEQUENCE:3
DTSTAMP:20260423T015205Z
URL:https://business.lavernechamber.org/events/details/nhra-fan-fest-422
END:VEVENT

END:VCALENDAR
