BEGIN:VCALENDAR
VERSION:2.0
PRODID:-//ChamberMaster//Event Calendar 2.0//EN
METHOD:PUBLISH
X-PUBLISHED-TTL:P3D
REFRESH-INTERVAL:P3D
CALSCALE:GREGORIAN
BEGIN:VEVENT
DTSTART:20171110T193000Z
DTEND:20171110T213000Z
X-MICROSOFT-CDO-ALLDAYEVENT:FALSE
SUMMARY:NHRA Mulit-Chamber Mixer
DESCRIPTION:NHRA\, along with the Pomona Chamber\n\nof Commerce and Pomona Rotary Club\, is\n\noffering a unique business opportunity.\n\n  Network with Chamber members\n\nfrom local cities\n\n  Hear from NHRA Executives\n\n  Stick around to experience 300 MPH\,\n\n11\,000 horsepower\, Nitro racing
X-ALT-DESC;FMTTYPE=text/html:NHRA\, along with the Pomona Chamber<br />\nof Commerce and Pomona Rotary Club\, is<br />\noffering a unique business opportunity.<br />\n&bull\; Network with Chamber members<br />\nfrom local cities<br />\n&bull\; Hear from NHRA Executives<br />\n&bull\; Stick around to experience 300 MPH\,<br />\n11\,000 horsepower\, Nitro racing
LOCATION:NHRA Midway Hospitality Tent 2780 Fairplex Drive\, Pomona
UID:e.1883.365
SEQUENCE:3
DTSTAMP:20260423T014823Z
URL:https://business.lavernechamber.org/events/details/nhra-mulit-chamber-mixer-365
END:VEVENT

END:VCALENDAR
